Workbook

Sheet Planning
A1: Planning de la semaine
A2: Établissement | D2: Semaine du
A3: Les quatre premières lignes sont un exemple : remplace-les par ton équipe. Une heure de fin plus petite que l'heure de début finit après minuit.
A5: Salarié | B5: Poste | C5: Lundi | H5: Mardi | M5: Mercredi | R5: Jeudi | W5: Vendredi | AB5: Samedi | AG5: Dimanche | AL5: Pauses non payées (min) | AM5: Total semaine | AN5: Heures sup +10 % | AO5: Heures sup +20 % | AP5: Heures sup +50 % | AQ5: Taux horaire brut (€) | AR5: Heures sup payées (€) | AS5: À vérifier
C6: Midi début | D6: Midi fin | E6: Soir début | F6: Soir fin | G6: Heures | H6: Midi début | I6: Midi fin | J6: Soir début | K6: Soir fin | L6: Heures | M6: Midi début | N6: Midi fin | O6: Soir début | P6: Soir fin | Q6: Heures | R6: Midi début | S6: Midi fin | T6: Soir début | U6: Soir fin | V6: Heures | W6: Midi début | X6: Midi fin | Y6: Soir début | Z6: Soir fin | AA6: Heures | AB6: Midi début | AC6: Midi fin | AD6: Soir début | AE6: Soir fin | AF6: Heures | AG6: Midi début | AH6: Midi fin | AI6: Soir début | AJ6: Soir fin | AK6: Heures
A7: Inès | B7: Serveuse | G7: =BP7/1440 | H7: 0.45833333 | I7: 0.625 | J7: 0.77083333 | K7: 0.97916667 | L7: =BQ7/1440 | M7: 0.45833333 | N7: 0.625 | O7: 0.77083333 | P7: 0.95833333 | Q7: =BR7/1440 | R7: 0.45833333 | S7: 0.625 | T7: 0.77083333 | U7: 0.97916667 | V7: =BS7/1440 | W7: 0.45833333 | X7: 0.625 | Y7: 0.77083333 | Z7: 0.98958333 | AA7: =BT7/1440 | AD7: 0.75 | AE7: 0.034722222 | AF7: =BU7/1440 | AK7: =BV7/1440 | AL7: 20 | AM7: =CC7/1440 | AN7: =CD7/1440 | AO7: =CE7/1440 | AP7: =CF7/1440 | AR7: =IF(COUNT(AQ7)=0,"",ROUND(AQ7*(CD7*(1+Règles!$B$10)+CE7*(1+Règles!$B$11)+CF7*(1+Règles!$B$12))/60,2)) | AS7: =TRIM(IF(COUNTIF(BW7:CB7,"<"&(Règles!$B$4*60))>0,"Moins de 11 h de repos entre deux journées. ","")&IF(SUM(BI7:BO7)*20>IF(COUNT(AL7)=0,0,AL7),"Service de 6 h ou plus sans pause notée : 20 min à prévoir. ","")&IF(CC7>Règles!$B$6*60,"Plus de 48 h dans la semaine.","")) | AU7: =IF(COUNT(C7)=1,(HOUR(C7)*60+MINUTE(C7)),IF(COUNT(E7)=1,(HOUR(E7)*60+MINUTE(E7)),0)) | AV7: =IF(COUNT(H7)=1,(HOUR(H7)*60+MINUTE(H7)),IF(COUNT(J7)=1,(HOUR(J7)*60+MINUTE(J7)),0)) | AW7: =IF(COUNT(M7)=1,(HOUR(M7)*60+MINUTE(M7)),IF(COUNT(O7)=1,(HOUR(O7)*60+MINUTE(O7)),0)) | AX7: =IF(COUNT(R7)=1,(HOUR(R7)*60+MINUTE(R7)),IF(COUNT(T7)=1,(HOUR(T7)*60+MINUTE(T7)),0)) | AY7: =IF(COUNT(W7)=1,(HOUR(W7)*60+MINUTE(W7)),IF(COUNT(Y7)=1,(HOUR(Y7)*60+MINUTE(Y7)),0)) | AZ7: =IF(COUNT(AB7)=1,(HOUR(AB7)*60+MINUTE(AB7)),IF(COUNT(AD7)=1,(HOUR(AD7)*60+MINUTE(AD7)),0)) | BA7: =IF(COUNT(AG7)=1,(HOUR(AG7)*60+MINUTE(AG7)),IF(COUNT(AI7)=1,(HOUR(AI7)*60+MINUTE(AI7)),0)) | BB7: =IF(COUNT(E7,F7)=2,(HOUR(E7)*60+MINUTE(E7))+MOD((HOUR(F7)*60+MINUTE(F7))-(HOUR(E7)*60+MINUTE(E7)),1440),IF(COUNT(C7,D7)=2,(HOUR(C7)*60+MINUTE(C7))+MOD((HOUR(D7)*60+MINUTE(D7))-(HOUR(C7)*60+MINUTE(C7)),1440),0)) | BC7: =IF(COUNT(J7,K7)=2,(HOUR(J7)*60+MINUTE(J7))+MOD((HOUR(K7)*60+MINUTE(K7))-(HOUR(J7)*60+MINUTE(J7)),1440),IF(COUNT(H7,I7)=2,(HOUR(H7)*60+MINUTE(H7))+MOD((HOUR(I7)*60+MINUTE(I7))-(HOUR(H7)*60+MINUTE(H7)),1440),0)) | BD7: =IF(COUNT(O7,P7)=2,(HOUR(O7)*60+MINUTE(O7))+MOD((HOUR(P7)*60+MINUTE(P7))-(HOUR(O7)*60+MINUTE(O7)),1440),IF(COUNT(M7,N7)=2,(HOUR(M7)*60+MINUTE(M7))+MOD((HOUR(N7)*60+MINUTE(N7))-(HOUR(M7)*60+MINUTE(M7)),1440),0)) | BE7: =IF(COUNT(T7,U7)=2,(HOUR(T7)*60+MINUTE(T7))+MOD((HOUR(U7)*60+MINUTE(U7))-(HOUR(T7)*60+MINUTE(T7)),1440),IF(COUNT(R7,S7)=2,(HOUR(R7)*60+MINUTE(R7))+MOD((HOUR(S7)*60+MINUTE(S7))-(HOUR(R7)*60+MINUTE(R7)),1440),0)) | BF7: =IF(COUNT(Y7,Z7)=2,(HOUR(Y7)*60+MINUTE(Y7))+MOD((HOUR(Z7)*60+MINUTE(Z7))-(HOUR(Y7)*60+MINUTE(Y7)),1440),IF(COUNT(W7,X7)=2,(HOUR(W7)*60+MINUTE(W7))+MOD((HOUR(X7)*60+MINUTE(X7))-(HOUR(W7)*60+MINUTE(W7)),1440),0)) | BG7: =IF(COUNT(AD7,AE7)=2,(HOUR(AD7)*60+MINUTE(AD7))+MOD((HOUR(AE7)*60+MINUTE(AE7))-(HOUR(AD7)*60+MINUTE(AD7)),1440),IF(COUNT(AB7,AC7)=2,(HOUR(AB7)*60+MINUTE(AB7))+MOD((HOUR(AC7)*60+MINUTE(AC7))-(HOUR(AB7)*60+MINUTE(AB7)),1440),0)) | BH7: =IF(COUNT(AI7,AJ7)=2,(HOUR(AI7)*60+MINUTE(AI7))+MOD((HOUR(AJ7)*60+MINUTE(AJ7))-(HOUR(AI7)*60+MINUTE(AI7)),1440),IF(COUNT(AG7,AH7)=2,(HOUR(AG7)*60+MINUTE(AG7))+MOD((HOUR(AH7)*60+MINUTE(AH7))-(HOUR(AG7)*60+MINUTE(AG7)),1440),0)) | BI7: =IF(OR(IF(COUNT(C7,D7)<2,0,MOD((HOUR(D7)*60+MINUTE(D7))-(HOUR(C7)*60+MINUTE(C7)),1440))>=Règles!$B$5*60,IF(COUNT(E7,F7)<2,0,MOD((HOUR(F7)*60+MINUTE(F7))-(HOUR(E7)*60+MINUTE(E7)),1440))>=Règles!$B$5*60),1,0) | BJ7: =IF(OR(IF(COUNT(H7,I7)<2,0,MOD((HOUR(I7)*60+MINUTE(I7))-(HOUR(H7)*60+MINUTE(H7)),1440))>=Règles!$B$5*60,IF(COUNT(J7,K7)<2,0,MOD((HOUR(K7)*60+MINUTE(K7))-(HOUR(J7)*60+MINUTE(J7)),1440))>=Règles!$B$5*60),1,0) | BK7: =IF(OR(IF(COUNT(M7,N7)<2,0,MOD((HOUR(N7)*60+MINUTE(N7))-(HOUR(M7)*60+MINUTE(M7)),1440))>=Règles!$B$5*60,IF(COUNT(O7,P7)<2,0,MOD((HOUR(P7)*60+MINUTE(P7))-(HOUR(O7)*60+MINUTE(O7)),1440))>=Règles!$B$5*60),1,0) | BL7: =IF(OR(IF(COUNT(R7,S7)<2,0,MOD((HOUR(S7)*60+MINUTE(S7))-(HOUR(R7)*60+MINUTE(R7)),1440))>=Règles!$B$5*60,IF(COUNT(T7,U7)<2,0,MOD((HOUR(U7)*60+MINUTE(U7))-(HOUR(T7)*60+MINUTE(T7)),1440))>=Règles!$B$5*60),1,0) | BM7: =IF(OR(IF(COUNT(W7,X7)<2,0,MOD((HOUR(X7)*60+MINUTE(X7))-(HOUR(W7)*60+MINUTE(W7)),1440))>=Règles!$B$5*60,IF(COUNT(Y7,Z7)<2,0,MOD((HOUR(Z7)*60+MINUTE(Z7))-(HOUR(Y7)*60+MINUTE(Y7)),1440))>=Règles!$B$5*60),1,0) | BN7: =IF(OR(IF(COUNT(AB7,AC7)<2,0,MOD((HOUR(AC7)*60+MINUTE(AC7))-(HOUR(AB7)*60+MINUTE(AB7)),1440))>=Règles!$B$5*60,IF(COUNT(AD7,AE7)<2,0,MOD((HOUR(AE7)*60+MINUTE(AE7))-(HOUR(AD7)*60+MINUTE(AD7)),1440))>=Règles!$B$5*60),1,0) | BO7: =IF(OR(IF(COUNT(AG7,AH7)<2,0,MOD((HOUR(AH7)*60+MINUTE(AH7))-(HOUR(AG7)*60+MINUTE(AG7)),1440))>=Règles!$B$5*60,IF(COUNT(AI7,AJ7)<2,0,MOD((HOUR(AJ7)*60+MINUTE(AJ7))-(HOUR(AI7)*60+MINUTE(AI7)),1440))>=Règles!$B$5*60),1,0) | BP7: =IF(COUNT(C7,D7)<2,0,MOD((HOUR(D7)*60+MINUTE(D7))-(HOUR(C7)*60+MINUTE(C7)),1440))+IF(COUNT(E7,F7)<2,0,MOD((HOUR(F7)*60+MINUTE(F7))-(HOUR(E7)*60+MINUTE(E7)),1440)) | BQ7: =IF(COUNT(H7,I7)<2,0,MOD((HOUR(I7)*60+MINUTE(I7))-(HOUR(H7)*60+MINUTE(H7)),1440))+IF(COUNT(J7,K7)<2,0,MOD((HOUR(K7)*60+MINUTE(K7))-(HOUR(J7)*60+MINUTE(J7)),1440)) | BR7: =IF(COUNT(M7,N7)<2,0,MOD((HOUR(N7)*60+MINUTE(N7))-(HOUR(M7)*60+MINUTE(M7)),1440))+IF(COUNT(O7,P7)<2,0,MOD((HOUR(P7)*60+MINUTE(P7))-(HOUR(O7)*60+MINUTE(O7)),1440)) | BS7: =IF(COUNT(R7,S7)<2,0,MOD((HOUR(S7)*60+MINUTE(S7))-(HOUR(R7)*60+MINUTE(R7)),1440))+IF(COUNT(T7,U7)<2,0,MOD((HOUR(U7)*60+MINUTE(U7))-(HOUR(T7)*60+MINUTE(T7)),1440)) | BT7: =IF(COUNT(W7,X7)<2,0,MOD((HOUR(X7)*60+MINUTE(X7))-(HOUR(W7)*60+MINUTE(W7)),1440))+IF(COUNT(Y7,Z7)<2,0,MOD((HOUR(Z7)*60+MINUTE(Z7))-(HOUR(Y7)*60+MINUTE(Y7)),1440)) | BU7: =IF(COUNT(AB7,AC7)<2,0,MOD((HOUR(AC7)*60+MINUTE(AC7))-(HOUR(AB7)*60+MINUTE(AB7)),1440))+IF(COUNT(AD7,AE7)<2,0,MOD((HOUR(AE7)*60+MINUTE(AE7))-(HOUR(AD7)*60+MINUTE(AD7)),1440)) | BV7: =IF(COUNT(AG7,AH7)<2,0,MOD((HOUR(AH7)*60+MINUTE(AH7))-(HOUR(AG7)*60+MINUTE(AG7)),1440))+IF(COUNT(AI7,AJ7)<2,0,MOD((HOUR(AJ7)*60+MINUTE(AJ7))-(HOUR(AI7)*60+MINUTE(AI7)),1440)) | BW7: =IF(AND(BP7>0,BQ7>0),1440+AV7-BB7,99999) | BX7: =IF(AND(BQ7>0,BR7>0),1440+AW7-BC7,99999) | BY7: =IF(AND(BR7>0,BS7>0),1440+AX7-BD7,99999) | BZ7: =IF(AND(BS7>0,BT7>0),1440+AY7-BE7,99999) | CA7: =IF(AND(BT7>0,BU7>0),1440+AZ7-BF7,99999) | CB7: =IF(AND(BU7>0,BV7>0),1440+BA7-BG7,99999) | CC7: =SUM(BP7:BV7)-IF(COUNT(AL7)=0,0,AL7) | CD7: =MIN(MAX(CC7-Règles!$B$7*60,0),(Règles!$B$8-Règles!$B$7)*60) | CE7: =MIN(MAX(CC7-Règles!$B$8*60,0),(Règles!$B$9-Règles!$B$8)*60) | CF7: =MAX(CC7-Règles!$B$9*60,0)
A8: Karim | B8: Cuisinier | G8: =BP8/1440 | H8: 0.39583333 | I8: 0.60416667 | J8: 0.75 | K8: 0.91666667 | L8: =BQ8/1440 | M8: 0.39583333 | N8: 0.60416667 | O8: 0.75 | P8: 0.91666667 | Q8: =BR8/1440 | R8: 0.39583333 | S8: 0.60416667 | T8: 0.75 | U8: 0.91666667 | V8: =BS8/1440 | W8: 0.39583333 | X8: 0.60416667 | Y8: 0.75 | Z8: 0.91666667 | AA8: =BT8/1440 | AB8: 0.39583333 | AC8: 0.60416667 | AD8: 0.75 | AE8: 0.91666667 | AF8: =BU8/1440 | AK8: =BV8/1440 | AM8: =CC8/1440 | AN8: =CD8/1440 | AO8: =CE8/1440 | AP8: =CF8/1440 | AR8: =IF(COUNT(AQ8)=0,"",ROUND(AQ8*(CD8*(1+Règles!$B$10)+CE8*(1+Règles!$B$11)+CF8*(1+Règles!$B$12))/60,2)) | AS8: =TRIM(IF(COUNTIF(BW8:CB8,"<"&(Règles!$B$4*60))>0,"Moins de 11 h de repos entre deux journées. ","")&IF(SUM(BI8:BO8)*20>IF(COUNT(AL8)=0,0,AL8),"Service de 6 h ou plus sans pause notée : 20 min à prévoir. ","")&IF(CC8>Règles!$B$6*60,"Plus de 48 h dans la semaine.","")) | AU8: =IF(COUNT(C8)=1,(HOUR(C8)*60+MINUTE(C8)),IF(COUNT(E8)=1,(HOUR(E8)*60+MINUTE(E8)),0)) | AV8: =IF(COUNT(H8)=1,(HOUR(H8)*60+MINUTE(H8)),IF(COUNT(J8)=1,(HOUR(J8)*60+MINUTE(J8)),0)) | AW8: =IF(COUNT(M8)=1,(HOUR(M8)*60+MINUTE(M8)),IF(COUNT(O8)=1,(HOUR(O8)*60+MINUTE(O8)),0)) | AX8: =IF(COUNT(R8)=1,(HOUR(R8)*60+MINUTE(R8)),IF(COUNT(T8)=1,(HOUR(T8)*60+MINUTE(T8)),0)) | AY8: =IF(COUNT(W8)=1,(HOUR(W8)*60+MINUTE(W8)),IF(COUNT(Y8)=1,(HOUR(Y8)*60+MINUTE(Y8)),0)) | AZ8: =IF(COUNT(AB8)=1,(HOUR(AB8)*60+MINUTE(AB8)),IF(COUNT(AD8)=1,(HOUR(AD8)*60+MINUTE(AD8)),0)) | BA8: =IF(COUNT(AG8)=1,(HOUR(AG8)*60+MINUTE(AG8)),IF(COUNT(AI8)=1,(HOUR(AI8)*60+MINUTE(AI8)),0)) | BB8: =IF(COUNT(E8,F8)=2,(HOUR(E8)*60+MINUTE(E8))+MOD((HOUR(F8)*60+MINUTE(F8))-(HOUR(E8)*60+MINUTE(E8)),1440),IF(COUNT(C8,D8)=2,(HOUR(C8)*60+MINUTE(C8))+MOD((HOUR(D8)*60+MINUTE(D8))-(HOUR(C8)*60+MINUTE(C8)),1440),0)) | BC8: =IF(COUNT(J8,K8)=2,(HOUR(J8)*60+MINUTE(J8))+MOD((HOUR(K8)*60+MINUTE(K8))-(HOUR(J8)*60+MINUTE(J8)),1440),IF(COUNT(H8,I8)=2,(HOUR(H8)*60+MINUTE(H8))+MOD((HOUR(I8)*60+MINUTE(I8))-(HOUR(H8)*60+MINUTE(H8)),1440),0)) | BD8: =IF(COUNT(O8,P8)=2,(HOUR(O8)*60+MINUTE(O8))+MOD((HOUR(P8)*60+MINUTE(P8))-(HOUR(O8)*60+MINUTE(O8)),1440),IF(COUNT(M8,N8)=2,(HOUR(M8)*60+MINUTE(M8))+MOD((HOUR(N8)*60+MINUTE(N8))-(HOUR(M8)*60+MINUTE(M8)),1440),0)) | BE8: =IF(COUNT(T8,U8)=2,(HOUR(T8)*60+MINUTE(T8))+MOD((HOUR(U8)*60+MINUTE(U8))-(HOUR(T8)*60+MINUTE(T8)),1440),IF(COUNT(R8,S8)=2,(HOUR(R8)*60+MINUTE(R8))+MOD((HOUR(S8)*60+MINUTE(S8))-(HOUR(R8)*60+MINUTE(R8)),1440),0)) | BF8: =IF(COUNT(Y8,Z8)=2,(HOUR(Y8)*60+MINUTE(Y8))+MOD((HOUR(Z8)*60+MINUTE(Z8))-(HOUR(Y8)*60+MINUTE(Y8)),1440),IF(COUNT(W8,X8)=2,(HOUR(W8)*60+MINUTE(W8))+MOD((HOUR(X8)*60+MINUTE(X8))-(HOUR(W8)*60+MINUTE(W8)),1440),0)) | BG8: =IF(COUNT(AD8,AE8)=2,(HOUR(AD8)*60+MINUTE(AD8))+MOD((HOUR(AE8)*60+MINUTE(AE8))-(HOUR(AD8)*60+MINUTE(AD8)),1440),IF(COUNT(AB8,AC8)=2,(HOUR(AB8)*60+MINUTE(AB8))+MOD((HOUR(AC8)*60+MINUTE(AC8))-(HOUR(AB8)*60+MINUTE(AB8)),1440),0)) | BH8: =IF(COUNT(AI8,AJ8)=2,(HOUR(AI8)*60+MINUTE(AI8))+MOD((HOUR(AJ8)*60+MINUTE(AJ8))-(HOUR(AI8)*60+MINUTE(AI8)),1440),IF(COUNT(AG8,AH8)=2,(HOUR(AG8)*60+MINUTE(AG8))+MOD((HOUR(AH8)*60+MINUTE(AH8))-(HOUR(AG8)*60+MINUTE(AG8)),1440),0)) | BI8: =IF(OR(IF(COUNT(C8,D8)<2,0,MOD((HOUR(D8)*60+MINUTE(D8))-(HOUR(C8)*60+MINUTE(C8)),1440))>=Règles!$B$5*60,IF(COUNT(E8,F8)<2,0,MOD((HOUR(F8)*60+MINUTE(F8))-(HOUR(E8)*60+MINUTE(E8)),1440))>=Règles!$B$5*60),1,0) | BJ8: =IF(OR(IF(COUNT(H8,I8)<2,0,MOD((HOUR(I8)*60+MINUTE(I8))-(HOUR(H8)*60+MINUTE(H8)),1440))>=Règles!$B$5*60,IF(COUNT(J8,K8)<2,0,MOD((HOUR(K8)*60+MINUTE(K8))-(HOUR(J8)*60+MINUTE(J8)),1440))>=Règles!$B$5*60),1,0) | BK8: =IF(OR(IF(COUNT(M8,N8)<2,0,MOD((HOUR(N8)*60+MINUTE(N8))-(HOUR(M8)*60+MINUTE(M8)),1440))>=Règles!$B$5*60,IF(COUNT(O8,P8)<2,0,MOD((HOUR(P8)*60+MINUTE(P8))-(HOUR(O8)*60+MINUTE(O8)),1440))>=Règles!$B$5*60),1,0) | BL8: =IF(OR(IF(COUNT(R8,S8)<2,0,MOD((HOUR(S8)*60+MINUTE(S8))-(HOUR(R8)*60+MINUTE(R8)),1440))>=Règles!$B$5*60,IF(COUNT(T8,U8)<2,0,MOD((HOUR(U8)*60+MINUTE(U8))-(HOUR(T8)*60+MINUTE(T8)),1440))>=Règles!$B$5*60),1,0) | BM8: =IF(OR(IF(COUNT(W8,X8)<2,0,MOD((HOUR(X8)*60+MINUTE(X8))-(HOUR(W8)*60+MINUTE(W8)),1440))>=Règles!$B$5*60,IF(COUNT(Y8,Z8)<2,0,MOD((HOUR(Z8)*60+MINUTE(Z8))-(HOUR(Y8)*60+MINUTE(Y8)),1440))>=Règles!$B$5*60),1,0) | BN8: =IF(OR(IF(COUNT(AB8,AC8)<2,0,MOD((HOUR(AC8)*60+MINUTE(AC8))-(HOUR(AB8)*60+MINUTE(AB8)),1440))>=Règles!$B$5*60,IF(COUNT(AD8,AE8)<2,0,MOD((HOUR(AE8)*60+MINUTE(AE8))-(HOUR(AD8)*60+MINUTE(AD8)),1440))>=Règles!$B$5*60),1,0) | BO8: =IF(OR(IF(COUNT(AG8,AH8)<2,0,MOD((HOUR(AH8)*60+MINUTE(AH8))-(HOUR(AG8)*60+MINUTE(AG8)),1440))>=Règles!$B$5*60,IF(COUNT(AI8,AJ8)<2,0,MOD((HOUR(AJ8)*60+MINUTE(AJ8))-(HOUR(AI8)*60+MINUTE(AI8)),1440))>=Règles!$B$5*60),1,0) | BP8: =IF(COUNT(C8,D8)<2,0,MOD((HOUR(D8)*60+MINUTE(D8))-(HOUR(C8)*60+MINUTE(C8)),1440))+IF(COUNT(E8,F8)<2,0,MOD((HOUR(F8)*60+MINUTE(F8))-(HOUR(E8)*60+MINUTE(E8)),1440)) | BQ8: =IF(COUNT(H8,I8)<2,0,MOD((HOUR(I8)*60+MINUTE(I8))-(HOUR(H8)*60+MINUTE(H8)),1440))+IF(COUNT(J8,K8)<2,0,MOD((HOUR(K8)*60+MINUTE(K8))-(HOUR(J8)*60+MINUTE(J8)),1440)) | BR8: =IF(COUNT(M8,N8)<2,0,MOD((HOUR(N8)*60+MINUTE(N8))-(HOUR(M8)*60+MINUTE(M8)),1440))+IF(COUNT(O8,P8)<2,0,MOD((HOUR(P8)*60+MINUTE(P8))-(HOUR(O8)*60+MINUTE(O8)),1440)) | BS8: =IF(COUNT(R8,S8)<2,0,MOD((HOUR(S8)*60+MINUTE(S8))-(HOUR(R8)*60+MINUTE(R8)),1440))+IF(COUNT(T8,U8)<2,0,MOD((HOUR(U8)*60+MINUTE(U8))-(HOUR(T8)*60+MINUTE(T8)),1440)) | BT8: =IF(COUNT(W8,X8)<2,0,MOD((HOUR(X8)*60+MINUTE(X8))-(HOUR(W8)*60+MINUTE(W8)),1440))+IF(COUNT(Y8,Z8)<2,0,MOD((HOUR(Z8)*60+MINUTE(Z8))-(HOUR(Y8)*60+MINUTE(Y8)),1440)) | BU8: =IF(COUNT(AB8,AC8)<2,0,MOD((HOUR(AC8)*60+MINUTE(AC8))-(HOUR(AB8)*60+MINUTE(AB8)),1440))+IF(COUNT(AD8,AE8)<2,0,MOD((HOUR(AE8)*60+MINUTE(AE8))-(HOUR(AD8)*60+MINUTE(AD8)),1440)) | BV8: =IF(COUNT(AG8,AH8)<2,0,MOD((HOUR(AH8)*60+MINUTE(AH8))-(HOUR(AG8)*60+MINUTE(AG8)),1440))+IF(COUNT(AI8,AJ8)<2,0,MOD((HOUR(AJ8)*60+MINUTE(AJ8))-(HOUR(AI8)*60+MINUTE(AI8)),1440)) | BW8: =IF(AND(BP8>0,BQ8>0),1440+AV8-BB8,99999) | BX8: =IF(AND(BQ8>0,BR8>0),1440+AW8-BC8,99999) | BY8: =IF(AND(BR8>0,BS8>0),1440+AX8-BD8,99999) | BZ8: =IF(AND(BS8>0,BT8>0),1440+AY8-BE8,99999) | CA8: =IF(AND(BT8>0,BU8>0),1440+AZ8-BF8,99999) | CB8: =IF(AND(BU8>0,BV8>0),1440+BA8-BG8,99999) | CC8: =SUM(BP8:BV8)-IF(COUNT(AL8)=0,0,AL8) | CD8: =MIN(MAX(CC8-Règles!$B$7*60,0),(Règles!$B$8-Règles!$B$7)*60) | CE8: =MIN(MAX(CC8-Règles!$B$8*60,0),(Règles!$B$9-Règles!$B$8)*60) | CF8: =MAX(CC8-Règles!$B$9*60,0)
A9: Lucas | B9: Commis | G9: =BP9/1440 | L9: =BQ9/1440 | M9: 0.41666667 | N9: 0.625 | Q9: =BR9/1440 | R9: 0.41666667 | S9: 0.625 | T9: 0.75 | U9: 0.91666667 | V9: =BS9/1440 | Y9: 0.75 | Z9: 0.97916667 | AA9: =BT9/1440 | AD9: 0.75 | AE9: 0.020833333 | AF9: =BU9/1440 | AG9: 0.41666667 | AH9: 0.625 | AK9: =BV9/1440 | AM9: =CC9/1440 | AN9: =CD9/1440 | AO9: =CE9/1440 | AP9: =CF9/1440 | AR9: =IF(COUNT(AQ9)=0,"",ROUND(AQ9*(CD9*(1+Règles!$B$10)+CE9*(1+Règles!$B$11)+CF9*(1+Règles!$B$12))/60,2)) | AS9: =TRIM(IF(COUNTIF(BW9:CB9,"<"&(Règles!$B$4*60))>0,"Moins de 11 h de repos entre deux journées. ","")&IF(SUM(BI9:BO9)*20>IF(COUNT(AL9)=0,0,AL9),"Service de 6 h ou plus sans pause notée : 20 min à prévoir. ","")&IF(CC9>Règles!$B$6*60,"Plus de 48 h dans la semaine.","")) | AU9: =IF(COUNT(C9)=1,(HOUR(C9)*60+MINUTE(C9)),IF(COUNT(E9)=1,(HOUR(E9)*60+MINUTE(E9)),0)) | AV9: =IF(COUNT(H9)=1,(HOUR(H9)*60+MINUTE(H9)),IF(COUNT(J9)=1,(HOUR(J9)*60+MINUTE(J9)),0)) | AW9: =IF(COUNT(M9)=1,(HOUR(M9)*60+MINUTE(M9)),IF(COUNT(O9)=1,(HOUR(O9)*60+MINUTE(O9)),0)) | AX9: =IF(COUNT(R9)=1,(HOUR(R9)*60+MINUTE(R9)),IF(COUNT(T9)=1,(HOUR(T9)*60+MINUTE(T9)),0)) | AY9: =IF(COUNT(W9)=1,(HOUR(W9)*60+MINUTE(W9)),IF(COUNT(Y9)=1,(HOUR(Y9)*60+MINUTE(Y9)),0)) | AZ9: =IF(COUNT(AB9)=1,(HOUR(AB9)*60+MINUTE(AB9)),IF(COUNT(AD9)=1,(HOUR(AD9)*60+MINUTE(AD9)),0)) | BA9: =IF(COUNT(AG9)=1,(HOUR(AG9)*60+MINUTE(AG9)),IF(COUNT(AI9)=1,(HOUR(AI9)*60+MINUTE(AI9)),0)) | BB9: =IF(COUNT(E9,F9)=2,(HOUR(E9)*60+MINUTE(E9))+MOD((HOUR(F9)*60+MINUTE(F9))-(HOUR(E9)*60+MINUTE(E9)),1440),IF(COUNT(C9,D9)=2,(HOUR(C9)*60+MINUTE(C9))+MOD((HOUR(D9)*60+MINUTE(D9))-(HOUR(C9)*60+MINUTE(C9)),1440),0)) | BC9: =IF(COUNT(J9,K9)=2,(HOUR(J9)*60+MINUTE(J9))+MOD((HOUR(K9)*60+MINUTE(K9))-(HOUR(J9)*60+MINUTE(J9)),1440),IF(COUNT(H9,I9)=2,(HOUR(H9)*60+MINUTE(H9))+MOD((HOUR(I9)*60+MINUTE(I9))-(HOUR(H9)*60+MINUTE(H9)),1440),0)) | BD9: =IF(COUNT(O9,P9)=2,(HOUR(O9)*60+MINUTE(O9))+MOD((HOUR(P9)*60+MINUTE(P9))-(HOUR(O9)*60+MINUTE(O9)),1440),IF(COUNT(M9,N9)=2,(HOUR(M9)*60+MINUTE(M9))+MOD((HOUR(N9)*60+MINUTE(N9))-(HOUR(M9)*60+MINUTE(M9)),1440),0)) | BE9: =IF(COUNT(T9,U9)=2,(HOUR(T9)*60+MINUTE(T9))+MOD((HOUR(U9)*60+MINUTE(U9))-(HOUR(T9)*60+MINUTE(T9)),1440),IF(COUNT(R9,S9)=2,(HOUR(R9)*60+MINUTE(R9))+MOD((HOUR(S9)*60+MINUTE(S9))-(HOUR(R9)*60+MINUTE(R9)),1440),0)) | BF9: =IF(COUNT(Y9,Z9)=2,(HOUR(Y9)*60+MINUTE(Y9))+MOD((HOUR(Z9)*60+MINUTE(Z9))-(HOUR(Y9)*60+MINUTE(Y9)),1440),IF(COUNT(W9,X9)=2,(HOUR(W9)*60+MINUTE(W9))+MOD((HOUR(X9)*60+MINUTE(X9))-(HOUR(W9)*60+MINUTE(W9)),1440),0)) | BG9: =IF(COUNT(AD9,AE9)=2,(HOUR(AD9)*60+MINUTE(AD9))+MOD((HOUR(AE9)*60+MINUTE(AE9))-(HOUR(AD9)*60+MINUTE(AD9)),1440),IF(COUNT(AB9,AC9)=2,(HOUR(AB9)*60+MINUTE(AB9))+MOD((HOUR(AC9)*60+MINUTE(AC9))-(HOUR(AB9)*60+MINUTE(AB9)),1440),0)) | BH9: =IF(COUNT(AI9,AJ9)=2,(HOUR(AI9)*60+MINUTE(AI9))+MOD((HOUR(AJ9)*60+MINUTE(AJ9))-(HOUR(AI9)*60+MINUTE(AI9)),1440),IF(COUNT(AG9,AH9)=2,(HOUR(AG9)*60+MINUTE(AG9))+MOD((HOUR(AH9)*60+MINUTE(AH9))-(HOUR(AG9)*60+MINUTE(AG9)),1440),0)) | BI9: =IF(OR(IF(COUNT(C9,D9)<2,0,MOD((HOUR(D9)*60+MINUTE(D9))-(HOUR(C9)*60+MINUTE(C9)),1440))>=Règles!$B$5*60,IF(COUNT(E9,F9)<2,0,MOD((HOUR(F9)*60+MINUTE(F9))-(HOUR(E9)*60+MINUTE(E9)),1440))>=Règles!$B$5*60),1,0) | BJ9: =IF(OR(IF(COUNT(H9,I9)<2,0,MOD((HOUR(I9)*60+MINUTE(I9))-(HOUR(H9)*60+MINUTE(H9)),1440))>=Règles!$B$5*60,IF(COUNT(J9,K9)<2,0,MOD((HOUR(K9)*60+MINUTE(K9))-(HOUR(J9)*60+MINUTE(J9)),1440))>=Règles!$B$5*60),1,0) | BK9: =IF(OR(IF(COUNT(M9,N9)<2,0,MOD((HOUR(N9)*60+MINUTE(N9))-(HOUR(M9)*60+MINUTE(M9)),1440))>=Règles!$B$5*60,IF(COUNT(O9,P9)<2,0,MOD((HOUR(P9)*60+MINUTE(P9))-(HOUR(O9)*60+MINUTE(O9)),1440))>=Règles!$B$5*60),1,0) | BL9: =IF(OR(IF(COUNT(R9,S9)<2,0,MOD((HOUR(S9)*60+MINUTE(S9))-(HOUR(R9)*60+MINUTE(R9)),1440))>=Règles!$B$5*60,IF(COUNT(T9,U9)<2,0,MOD((HOUR(U9)*60+MINUTE(U9))-(HOUR(T9)*60+MINUTE(T9)),1440))>=Règles!$B$5*60),1,0) | BM9: =IF(OR(IF(COUNT(W9,X9)<2,0,MOD((HOUR(X9)*60+MINUTE(X9))-(HOUR(W9)*60+MINUTE(W9)),1440))>=Règles!$B$5*60,IF(COUNT(Y9,Z9)<2,0,MOD((HOUR(Z9)*60+MINUTE(Z9))-(HOUR(Y9)*60+MINUTE(Y9)),1440))>=Règles!$B$5*60),1,0) | BN9: =IF(OR(IF(COUNT(AB9,AC9)<2,0,MOD((HOUR(AC9)*60+MINUTE(AC9))-(HOUR(AB9)*60+MINUTE(AB9)),1440))>=Règles!$B$5*60,IF(COUNT(AD9,AE9)<2,0,MOD((HOUR(AE9)*60+MINUTE(AE9))-(HOUR(AD9)*60+MINUTE(AD9)),1440))>=Règles!$B$5*60),1,0) | BO9: =IF(OR(IF(COUNT(AG9,AH9)<2,0,MOD((HOUR(AH9)*60+MINUTE(AH9))-(HOUR(AG9)*60+MINUTE(AG9)),1440))>=Règles!$B$5*60,IF(COUNT(AI9,AJ9)<2,0,MOD((HOUR(AJ9)*60+MINUTE(AJ9))-(HOUR(AI9)*60+MINUTE(AI9)),1440))>=Règles!$B$5*60),1,0) | BP9: =IF(COUNT(C9,D9)<2,0,MOD((HOUR(D9)*60+MINUTE(D9))-(HOUR(C9)*60+MINUTE(C9)),1440))+IF(COUNT(E9,F9)<2,0,MOD((HOUR(F9)*60+MINUTE(F9))-(HOUR(E9)*60+MINUTE(E9)),1440)) | BQ9: =IF(COUNT(H9,I9)<2,0,MOD((HOUR(I9)*60+MINUTE(I9))-(HOUR(H9)*60+MINUTE(H9)),1440))+IF(COUNT(J9,K9)<2,0,MOD((HOUR(K9)*60+MINUTE(K9))-(HOUR(J9)*60+MINUTE(J9)),1440)) | BR9: =IF(COUNT(M9,N9)<2,0,MOD((HOUR(N9)*60+MINUTE(N9))-(HOUR(M9)*60+MINUTE(M9)),1440))+IF(COUNT(O9,P9)<2,0,MOD((HOUR(P9)*60+MINUTE(P9))-(HOUR(O9)*60+MINUTE(O9)),1440)) | BS9: =IF(COUNT(R9,S9)<2,0,MOD((HOUR(S9)*60+MINUTE(S9))-(HOUR(R9)*60+MINUTE(R9)),1440))+IF(COUNT(T9,U9)<2,0,MOD((HOUR(U9)*60+MINUTE(U9))-(HOUR(T9)*60+MINUTE(T9)),1440)) | BT9: =IF(COUNT(W9,X9)<2,0,MOD((HOUR(X9)*60+MINUTE(X9))-(HOUR(W9)*60+MINUTE(W9)),1440))+IF(COUNT(Y9,Z9)<2,0,MOD((HOUR(Z9)*60+MINUTE(Z9))-(HOUR(Y9)*60+MINUTE(Y9)),1440)) | BU9: =IF(COUNT(AB9,AC9)<2,0,MOD((HOUR(AC9)*60+MINUTE(AC9))-(HOUR(AB9)*60+MINUTE(AB9)),1440))+IF(COUNT(AD9,AE9)<2,0,MOD((HOUR(AE9)*60+MINUTE(AE9))-(HOUR(AD9)*60+MINUTE(AD9)),1440)) | BV9: =IF(COUNT(AG9,AH9)<2,0,MOD((HOUR(AH9)*60+MINUTE(AH9))-(HOUR(AG9)*60+MINUTE(AG9)),1440))+IF(COUNT(AI9,AJ9)<2,0,MOD((HOUR(AJ9)*60+MINUTE(AJ9))-(HOUR(AI9)*60+MINUTE(AI9)),1440)) | BW9: =IF(AND(BP9>0,BQ9>0),1440+AV9-BB9,99999) | BX9: =IF(AND(BQ9>0,BR9>0),1440+AW9-BC9,99999) | BY9: =IF(AND(BR9>0,BS9>0),1440+AX9-BD9,99999) | BZ9: =IF(AND(BS9>0,BT9>0),1440+AY9-BE9,99999) | CA9: =IF(AND(BT9>0,BU9>0),1440+AZ9-BF9,99999) | CB9: =IF(AND(BU9>0,BV9>0),1440+BA9-BG9,99999) | CC9: =SUM(BP9:BV9)-IF(COUNT(AL9)=0,0,AL9) | CD9: =MIN(MAX(CC9-Règles!$B$7*60,0),(Règles!$B$8-Règles!$B$7)*60) | CE9: =MIN(MAX(CC9-Règles!$B$8*60,0),(Règles!$B$9-Règles!$B$8)*60) | CF9: =MAX(CC9-Règles!$B$9*60,0)
A10: Julie | B10: Plonge | G10: =BP10/1440 | H10: 0.33333333 | I10: 0.60416667 | L10: =BQ10/1440 | M10: 0.33333333 | N10: 0.60416667 | Q10: =BR10/1440 | R10: 0.33333333 | S10: 0.60416667 | V10: =BS10/1440 | W10: 0.33333333 | X10: 0.60416667 | AA10: =BT10/1440 | AB10: 0.33333333 | AC10: 0.60416667 | AF10: =BU10/1440 | AK10: =BV10/1440 | AM10: =CC10/1440 | AN10: =CD10/1440 | AO10: =CE10/1440 | AP10: =CF10/1440 | AR10: =IF(COUNT(AQ10)=0,"",ROUND(AQ10*(CD10*(1+Règles!$B$10)+CE10*(1+Règles!$B$11)+CF10*(1+Règles!$B$12))/60,2)) | AS10: =TRIM(IF(COUNTIF(BW10:CB10,"<"&(Règles!$B$4*60))>0,"Moins de 11 h de repos entre deux journées. ","")&IF(SUM(BI10:BO10)*20>IF(COUNT(AL10)=0,0,AL10),"Service de 6 h ou plus sans pause notée : 20 min à prévoir. ","")&IF(CC10>Règles!$B$6*60,"Plus de 48 h dans la semaine.","")) | AU10: =IF(COUNT(C10)=1,(HOUR(C10)*60+MINUTE(C10)),IF(COUNT(E10)=1,(HOUR(E10)*60+MINUTE(E10)),0)) | AV10: =IF(COUNT(H10)=1,(HOUR(H10)*60+MINUTE(H10)),IF(COUNT(J10)=1,(HOUR(J10)*60+MINUTE(J10)),0)) | AW10: =IF(COUNT(M10)=1,(HOUR(M10)*60+MINUTE(M10)),IF(COUNT(O10)=1,(HOUR(O10)*60+MINUTE(O10)),0)) | AX10: =IF(COUNT(R10)=1,(HOUR(R10)*60+MINUTE(R10)),IF(COUNT(T10)=1,(HOUR(T10)*60+MINUTE(T10)),0)) | AY10: =IF(COUNT(W10)=1,(HOUR(W10)*60+MINUTE(W10)),IF(COUNT(Y10)=1,(HOUR(Y10)*60+MINUTE(Y10)),0)) | AZ10: =IF(COUNT(AB10)=1,(HOUR(AB10)*60+MINUTE(AB10)),IF(COUNT(AD10)=1,(HOUR(AD10)*60+MINUTE(AD10)),0)) | BA10: =IF(COUNT(AG10)=1,(HOUR(AG10)*60+MINUTE(AG10)),IF(COUNT(AI10)=1,(HOUR(AI10)*60+MINUTE(AI10)),0)) | BB10: =IF(COUNT(E10,F10)=2,(HOUR(E10)*60+MINUTE(E10))+MOD((HOUR(F10)*60+MINUTE(F10))-(HOUR(E10)*60+MINUTE(E10)),1440),IF(COUNT(C10,D10)=2,(HOUR(C10)*60+MINUTE(C10))+MOD((HOUR(D10)*60+MINUTE(D10))-(HOUR(C10)*60+MINUTE(C10)),1440),0)) | BC10: =IF(COUNT(J10,K10)=2,(HOUR(J10)*60+MINUTE(J10))+MOD((HOUR(K10)*60+MINUTE(K10))-(HOUR(J10)*60+MINUTE(J10)),1440),IF(COUNT(H10,I10)=2,(HOUR(H10)*60+MINUTE(H10))+MOD((HOUR(I10)*60+MINUTE(I10))-(HOUR(H10)*60+MINUTE(H10)),1440),0)) | BD10: =IF(COUNT(O10,P10)=2,(HOUR(O10)*60+MINUTE(O10))+MOD((HOUR(P10)*60+MINUTE(P10))-(HOUR(O10)*60+MINUTE(O10)),1440),IF(COUNT(M10,N10)=2,(HOUR(M10)*60+MINUTE(M10))+MOD((HOUR(N10)*60+MINUTE(N10))-(HOUR(M10)*60+MINUTE(M10)),1440),0)) | BE10: =IF(COUNT(T10,U10)=2,(HOUR(T10)*60+MINUTE(T10))+MOD((HOUR(U10)*60+MINUTE(U10))-(HOUR(T10)*60+MINUTE(T10)),1440),IF(COUNT(R10,S10)=2,(HOUR(R10)*60+MINUTE(R10))+MOD((HOUR(S10)*60+MINUTE(S10))-(HOUR(R10)*60+MINUTE(R10)),1440),0)) | BF10: =IF(COUNT(Y10,Z10)=2,(HOUR(Y10)*60+MINUTE(Y10))+MOD((HOUR(Z10)*60+MINUTE(Z10))-(HOUR(Y10)*60+MINUTE(Y10)),1440),IF(COUNT(W10,X10)=2,(HOUR(W10)*60+MINUTE(W10))+MOD((HOUR(X10)*60+MINUTE(X10))-(HOUR(W10)*60+MINUTE(W10)),1440),0)) | BG10: =IF(COUNT(AD10,AE10)=2,(HOUR(AD10)*60+MINUTE(AD10))+MOD((HOUR(AE10)*60+MINUTE(AE10))-(HOUR(AD10)*60+MINUTE(AD10)),1440),IF(COUNT(AB10,AC10)=2,(HOUR(AB10)*60+MINUTE(AB10))+MOD((HOUR(AC10)*60+MINUTE(AC10))-(HOUR(AB10)*60+MINUTE(AB10)),1440),0)) | BH10: =IF(COUNT(AI10,AJ10)=2,(HOUR(AI10)*60+MINUTE(AI10))+MOD((HOUR(AJ10)*60+MINUTE(AJ10))-(HOUR(AI10)*60+MINUTE(AI10)),1440),IF(COUNT(AG10,AH10)=2,(HOUR(AG10)*60+MINUTE(AG10))+MOD((HOUR(AH10)*60+MINUTE(AH10))-(HOUR(AG10)*60+MINUTE(AG10)),1440),0)) | BI10: =IF(OR(IF(COUNT(C10,D10)<2,0,MOD((HOUR(D10)*60+MINUTE(D10))-(HOUR(C10)*60+MINUTE(C10)),1440))>=Règles!$B$5*60,IF(COUNT(E10,F10)<2,0,MOD((HOUR(F10)*60+MINUTE(F10))-(HOUR(E10)*60+MINUTE(E10)),1440))>=Règles!$B$5*60),1,0) | BJ10: =IF(OR(IF(COUNT(H10,I10)<2,0,MOD((HOUR(I10)*60+MINUTE(I10))-(HOUR(H10)*60+MINUTE(H10)),1440))>=Règles!$B$5*60,IF(COUNT(J10,K10)<2,0,MOD((HOUR(K10)*60+MINUTE(K10))-(HOUR(J10)*60+MINUTE(J10)),1440))>=Règles!$B$5*60),1,0) | BK10: =IF(OR(IF(COUNT(M10,N10)<2,0,MOD((HOUR(N10)*60+MINUTE(N10))-(HOUR(M10)*60+MINUTE(M10)),1440))>=Règles!$B$5*60,IF(COUNT(O10,P10)<2,0,MOD((HOUR(P10)*60+MINUTE(P10))-(HOUR(O10)*60+MINUTE(O10)),1440))>=Règles!$B$5*60),1,0) | BL10: =IF(OR(IF(COUNT(R10,S10)<2,0,MOD((HOUR(S10)*60+MINUTE(S10))-(HOUR(R10)*60+MINUTE(R10)),1440))>=Règles!$B$5*60,IF(COUNT(T10,U10)<2,0,MOD((HOUR(U10)*60+MINUTE(U10))-(HOUR(T10)*60+MINUTE(T10)),1440))>=Règles!$B$5*60),1,0) | BM10: =IF(OR(IF(COUNT(W10,X10)<2,0,MOD((HOUR(X10)*60+MINUTE(X10))-(HOUR(W10)*60+MINUTE(W10)),1440))>=Règles!$B$5*60,IF(COUNT(Y10,Z10)<2,0,MOD((HOUR(Z10)*60+MINUTE(Z10))-(HOUR(Y10)*60+MINUTE(Y10)),1440))>=Règles!$B$5*60),1,0) | BN10: =IF(OR(IF(COUNT(AB10,AC10)<2,0,MOD((HOUR(AC10)*60+MINUTE(AC10))-(HOUR(AB10)*60+MINUTE(AB10)),1440))>=Règles!$B$5*60,IF(COUNT(AD10,AE10)<2,0,MOD((HOUR(AE10)*60+MINUTE(AE10))-(HOUR(AD10)*60+MINUTE(AD10)),1440))>=Règles!$B$5*60),1,0) | BO10: =IF(OR(IF(COUNT(AG10,AH10)<2,0,MOD((HOUR(AH10)*60+MINUTE(AH10))-(HOUR(AG10)*60+MINUTE(AG10)),1440))>=Règles!$B$5*60,IF(COUNT(AI10,AJ10)<2,0,MOD((HOUR(AJ10)*60+MINUTE(AJ10))-(HOUR(AI10)*60+MINUTE(AI10)),1440))>=Règles!$B$5*60),1,0) | BP10: =IF(COUNT(C10,D10)<2,0,MOD((HOUR(D10)*60+MINUTE(D10))-(HOUR(C10)*60+MINUTE(C10)),1440))+IF(COUNT(E10,F10)<2,0,MOD((HOUR(F10)*60+MINUTE(F10))-(HOUR(E10)*60+MINUTE(E10)),1440)) | BQ10: =IF(COUNT(H10,I10)<2,0,MOD((HOUR(I10)*60+MINUTE(I10))-(HOUR(H10)*60+MINUTE(H10)),1440))+IF(COUNT(J10,K10)<2,0,MOD((HOUR(K10)*60+MINUTE(K10))-(HOUR(J10)*60+MINUTE(J10)),1440)) | BR10: =IF(COUNT(M10,N10)<2,0,MOD((HOUR(N10)*60+MINUTE(N10))-(HOUR(M10)*60+MINUTE(M10)),1440))+IF(COUNT(O10,P10)<2,0,MOD((HOUR(P10)*60+MINUTE(P10))-(HOUR(O10)*60+MINUTE(O10)),1440)) | BS10: =IF(COUNT(R10,S10)<2,0,MOD((HOUR(S10)*60+MINUTE(S10))-(HOUR(R10)*60+MINUTE(R10)),1440))+IF(COUNT(T10,U10)<2,0,MOD((HOUR(U10)*60+MINUTE(U10))-(HOUR(T10)*60+MINUTE(T10)),1440)) | BT10: =IF(COUNT(W10,X10)<2,0,MOD((HOUR(X10)*60+MINUTE(X10))-(HOUR(W10)*60+MINUTE(W10)),1440))+IF(COUNT(Y10,Z10)<2,0,MOD((HOUR(Z10)*60+MINUTE(Z10))-(HOUR(Y10)*60+MINUTE(Y10)),1440)) | BU10: =IF(COUNT(AB10,AC10)<2,0,MOD((HOUR(AC10)*60+MINUTE(AC10))-(HOUR(AB10)*60+MINUTE(AB10)),1440))+IF(COUNT(AD10,AE10)<2,0,MOD((HOUR(AE10)*60+MINUTE(AE10))-(HOUR(AD10)*60+MINUTE(AD10)),1440)) | BV10: =IF(COUNT(AG10,AH10)<2,0,MOD((HOUR(AH10)*60+MINUTE(AH10))-(HOUR(AG10)*60+MINUTE(AG10)),1440))+IF(COUNT(AI10,AJ10)<2,0,MOD((HOUR(AJ10)*60+MINUTE(AJ10))-(HOUR(AI10)*60+MINUTE(AI10)),1440)) | BW10: =IF(AND(BP10>0,BQ10>0),1440+AV10-BB10,99999) | BX10: =IF(AND(BQ10>0,BR10>0),1440+AW10-BC10,99999) | BY10: =IF(AND(BR10>0,BS10>0),1440+AX10-BD10,99999) | BZ10: =IF(AND(BS10>0,BT10>0),1440+AY10-BE10,99999) | CA10: =IF(AND(BT10>0,BU10>0),1440+AZ10-BF10,99999) | CB10: =IF(AND(BU10>0,BV10>0),1440+BA10-BG10,99999) | CC10: =SUM(BP10:BV10)-IF(COUNT(AL10)=0,0,AL10) | CD10: =MIN(MAX(CC10-Règles!$B$7*60,0),(Règles!$B$8-Règles!$B$7)*60) | CE10: =MIN(MAX(CC10-Règles!$B$8*60,0),(Règles!$B$9-Règles!$B$8)*60) | CF10: =MAX(CC10-Règles!$B$9*60,0)
G11: =BP11/1440 | L11: =BQ11/1440 | Q11: =BR11/1440 | V11: =BS11/1440 | AA11: =BT11/1440 | AF11: =BU11/1440 | AK11: =BV11/1440 | AM11: =CC11/1440 | AN11: =CD11/1440 | AO11: =CE11/1440 | AP11: =CF11/1440 | AR11: =IF(COUNT(AQ11)=0,"",ROUND(AQ11*(CD11*(1+Règles!$B$10)+CE11*(1+Règles!$B$11)+CF11*(1+Règles!$B$12))/60,2)) | AS11: =TRIM(IF(COUNTIF(BW11:CB11,"<"&(Règles!$B$4*60))>0,"Moins de 11 h de repos entre deux journées. ","")&IF(SUM(BI11:BO11)*20>IF(COUNT(AL11)=0,0,AL11),"Service de 6 h ou plus sans pause notée : 20 min à prévoir. ","")&IF(CC11>Règles!$B$6*60,"Plus de 48 h dans la semaine.","")) | AU11: =IF(COUNT(C11)=1,(HOUR(C11)*60+MINUTE(C11)),IF(COUNT(E11)=1,(HOUR(E11)*60+MINUTE(E11)),0)) | AV11: =IF(COUNT(H11)=1,(HOUR(H11)*60+MINUTE(H11)),IF(COUNT(J11)=1,(HOUR(J11)*60+MINUTE(J11)),0)) | AW11: =IF(COUNT(M11)=1,(HOUR(M11)*60+MINUTE(M11)),IF(COUNT(O11)=1,(HOUR(O11)*60+MINUTE(O11)),0)) | AX11: =IF(COUNT(R11)=1,(HOUR(R11)*60+MINUTE(R11)),IF(COUNT(T11)=1,(HOUR(T11)*60+MINUTE(T11)),0)) | AY11: =IF(COUNT(W11)=1,(HOUR(W11)*60+MINUTE(W11)),IF(COUNT(Y11)=1,(HOUR(Y11)*60+MINUTE(Y11)),0)) | AZ11: =IF(COUNT(AB11)=1,(HOUR(AB11)*60+MINUTE(AB11)),IF(COUNT(AD11)=1,(HOUR(AD11)*60+MINUTE(AD11)),0)) | BA11: =IF(COUNT(AG11)=1,(HOUR(AG11)*60+MINUTE(AG11)),IF(COUNT(AI11)=1,(HOUR(AI11)*60+MINUTE(AI11)),0)) | BB11: =IF(COUNT(E11,F11)=2,(HOUR(E11)*60+MINUTE(E11))+MOD((HOUR(F11)*60+MINUTE(F11))-(HOUR(E11)*60+MINUTE(E11)),1440),IF(COUNT(C11,D11)=2,(HOUR(C11)*60+MINUTE(C11))+MOD((HOUR(D11)*60+MINUTE(D11))-(HOUR(C11)*60+MINUTE(C11)),1440),0)) | BC11: =IF(COUNT(J11,K11)=2,(HOUR(J11)*60+MINUTE(J11))+MOD((HOUR(K11)*60+MINUTE(K11))-(HOUR(J11)*60+MINUTE(J11)),1440),IF(COUNT(H11,I11)=2,(HOUR(H11)*60+MINUTE(H11))+MOD((HOUR(I11)*60+MINUTE(I11))-(HOUR(H11)*60+MINUTE(H11)),1440),0)) | BD11: =IF(COUNT(O11,P11)=2,(HOUR(O11)*60+MINUTE(O11))+MOD((HOUR(P11)*60+MINUTE(P11))-(HOUR(O11)*60+MINUTE(O11)),1440),IF(COUNT(M11,N11)=2,(HOUR(M11)*60+MINUTE(M11))+MOD((HOUR(N11)*60+MINUTE(N11))-(HOUR(M11)*60+MINUTE(M11)),1440),0)) | BE11: =IF(COUNT(T11,U11)=2,(HOUR(T11)*60+MINUTE(T11))+MOD((HOUR(U11)*60+MINUTE(U11))-(HOUR(T11)*60+MINUTE(T11)),1440),IF(COUNT(R11,S11)=2,(HOUR(R11)*60+MINUTE(R11))+MOD((HOUR(S11)*60+MINUTE(S11))-(HOUR(R11)*60+MINUTE(R11)),1440),0)) | BF11: =IF(COUNT(Y11,Z11)=2,(HOUR(Y11)*60+MINUTE(Y11))+MOD((HOUR(Z11)*60+MINUTE(Z11))-(HOUR(Y11)*60+MINUTE(Y11)),1440),IF(COUNT(W11,X11)=2,(HOUR(W11)*60+MINUTE(W11))+MOD((HOUR(X11)*60+MINUTE(X11))-(HOUR(W11)*60+MINUTE(W11)),1440),0)) | BG11: =IF(COUNT(AD11,AE11)=2,(HOUR(AD11)*60+MINUTE(AD11))+MOD((HOUR(AE11)*60+MINUTE(AE11))-(HOUR(AD11)*60+MINUTE(AD11)),1440),IF(COUNT(AB11,AC11)=2,(HOUR(AB11)*60+MINUTE(AB11))+MOD((HOUR(AC11)*60+MINUTE(AC11))-(HOUR(AB11)*60+MINUTE(AB11)),1440),0)) | BH11: =IF(COUNT(AI11,AJ11)=2,(HOUR(AI11)*60+MINUTE(AI11))+MOD((HOUR(AJ11)*60+MINUTE(AJ11))-(HOUR(AI11)*60+MINUTE(AI11)),1440),IF(COUNT(AG11,AH11)=2,(HOUR(AG11)*60+MINUTE(AG11))+MOD((HOUR(AH11)*60+MINUTE(AH11))-(HOUR(AG11)*60+MINUTE(AG11)),1440),0)) | BI11: =IF(OR(IF(COUNT(C11,D11)<2,0,MOD((HOUR(D11)*60+MINUTE(D11))-(HOUR(C11)*60+MINUTE(C11)),1440))>=Règles!$B$5*60,IF(COUNT(E11,F11)<2,0,MOD((HOUR(F11)*60+MINUTE(F11))-(HOUR(E11)*60+MINUTE(E11)),1440))>=Règles!$B$5*60),1,0) | BJ11: =IF(OR(IF(COUNT(H11,I11)<2,0,MOD((HOUR(I11)*60+MINUTE(I11))-(HOUR(H11)*60+MINUTE(H11)),1440))>=Règles!$B$5*60,IF(COUNT(J11,K11)<2,0,MOD((HOUR(K11)*60+MINUTE(K11))-(HOUR(J11)*60+MINUTE(J11)),1440))>=Règles!$B$5*60),1,0) | BK11: =IF(OR(IF(COUNT(M11,N11)<2,0,MOD((HOUR(N11)*60+MINUTE(N11))-(HOUR(M11)*60+MINUTE(M11)),1440))>=Règles!$B$5*60,IF(COUNT(O11,P11)<2,0,MOD((HOUR(P11)*60+MINUTE(P11))-(HOUR(O11)*60+MINUTE(O11)),1440))>=Règles!$B$5*60),1,0) | BL11: =IF(OR(IF(COUNT(R11,S11)<2,0,MOD((HOUR(S11)*60+MINUTE(S11))-(HOUR(R11)*60+MINUTE(R11)),1440))>=Règles!$B$5*60,IF(COUNT(T11,U11)<2,0,MOD((HOUR(U11)*60+MINUTE(U11))-(HOUR(T11)*60+MINUTE(T11)),1440))>=Règles!$B$5*60),1,0) | BM11: =IF(OR(IF(COUNT(W11,X11)<2,0,MOD((HOUR(X11)*60+MINUTE(X11))-(HOUR(W11)*60+MINUTE(W11)),1440))>=Règles!$B$5*60,IF(COUNT(Y11,Z11)<2,0,MOD((HOUR(Z11)*60+MINUTE(Z11))-(HOUR(Y11)*60+MINUTE(Y11)),1440))>=Règles!$B$5*60),1,0) | BN11: =IF(OR(IF(COUNT(AB11,AC11)<2,0,MOD((HOUR(AC11)*60+MINUTE(AC11))-(HOUR(AB11)*60+MINUTE(AB11)),1440))>=Règles!$B$5*60,IF(COUNT(AD11,AE11)<2,0,MOD((HOUR(AE11)*60+MINUTE(AE11))-(HOUR(AD11)*60+MINUTE(AD11)),1440))>=Règles!$B$5*60),1,0) | BO11: =IF(OR(IF(COUNT(AG11,AH11)<2,0,MOD((HOUR(AH11)*60+MINUTE(AH11))-(HOUR(AG11)*60+MINUTE(AG11)),1440))>=Règles!$B$5*60,IF(COUNT(AI11,AJ11)<2,0,MOD((HOUR(AJ11)*60+MINUTE(AJ11))-(HOUR(AI11)*60+MINUTE(AI11)),1440))>=Règles!$B$5*60),1,0) | BP11: =IF(COUNT(C11,D11)<2,0,MOD((HOUR(D11)*60+MINUTE(D11))-(HOUR(C11)*60+MINUTE(C11)),1440))+IF(COUNT(E11,F11)<2,0,MOD((HOUR(F11)*60+MINUTE(F11))-(HOUR(E11)*60+MINUTE(E11)),1440)) | BQ11: =IF(COUNT(H11,I11)<2,0,MOD((HOUR(I11)*60+MINUTE(I11))-(HOUR(H11)*60+MINUTE(H11)),1440))+IF(COUNT(J11,K11)<2,0,MOD((HOUR(K11)*60+MINUTE(K11))-(HOUR(J11)*60+MINUTE(J11)),1440)) | BR11: =IF(COUNT(M11,N11)<2,0,MOD((HOUR(N11)*60+MINUTE(N11))-(HOUR(M11)*60+MINUTE(M11)),1440))+IF(COUNT(O11,P11)<2,0,MOD((HOUR(P11)*60+MINUTE(P11))-(HOUR(O11)*60+MINUTE(O11)),1440)) | BS11: =IF(COUNT(R11,S11)<2,0,MOD((HOUR(S11)*60+MINUTE(S11))-(HOUR(R11)*60+MINUTE(R11)),1440))+IF(COUNT(T11,U11)<2,0,MOD((HOUR(U11)*60+MINUTE(U11))-(HOUR(T11)*60+MINUTE(T11)),1440)) | BT11: =IF(COUNT(W11,X11)<2,0,MOD((HOUR(X11)*60+MINUTE(X11))-(HOUR(W11)*60+MINUTE(W11)),1440))+IF(COUNT(Y11,Z11)<2,0,MOD((HOUR(Z11)*60+MINUTE(Z11))-(HOUR(Y11)*60+MINUTE(Y11)),1440)) | BU11: =IF(COUNT(AB11,AC11)<2,0,MOD((HOUR(AC11)*60+MINUTE(AC11))-(HOUR(AB11)*60+MINUTE(AB11)),1440))+IF(COUNT(AD11,AE11)<2,0,MOD((HOUR(AE11)*60+MINUTE(AE11))-(HOUR(AD11)*60+MINUTE(AD11)),1440)) | BV11: =IF(COUNT(AG11,AH11)<2,0,MOD((HOUR(AH11)*60+MINUTE(AH11))-(HOUR(AG11)*60+MINUTE(AG11)),1440))+IF(COUNT(AI11,AJ11)<2,0,MOD((HOUR(AJ11)*60+MINUTE(AJ11))-(HOUR(AI11)*60+MINUTE(AI11)),1440)) | BW11: =IF(AND(BP11>0,BQ11>0),1440+AV11-BB11,99999) | BX11: =IF(AND(BQ11>0,BR11>0),1440+AW11-BC11,99999) | BY11: =IF(AND(BR11>0,BS11>0),1440+AX11-BD11,99999) | BZ11: =IF(AND(BS11>0,BT11>0),1440+AY11-BE11,99999) | CA11: =IF(AND(BT11>0,BU11>0),1440+AZ11-BF11,99999) | CB11: =IF(AND(BU11>0,BV11>0),1440+BA11-BG11,99999) | CC11: =SUM(BP11:BV11)-IF(COUNT(AL11)=0,0,AL11) | CD11: =MIN(MAX(CC11-Règles!$B$7*60,0),(Règles!$B$8-Règles!$B$7)*60) | CE11: =MIN(MAX(CC11-Règles!$B$8*60,0),(Règles!$B$9-Règles!$B$8)*60) | CF11: =MAX(CC11-Règles!$B$9*60,0)
G12: =BP12/1440 | L12: =BQ12/1440 | Q12: =BR12/1440 | V12: =BS12/1440 | AA12: =BT12/1440 | AF12: =BU12/1440 | AK12: =BV12/1440 | AM12: =CC12/1440 | AN12: =CD12/1440 | AO12: =CE12/1440 | AP12: =CF12/1440 | AR12: =IF(COUNT(AQ12)=0,"",ROUND(AQ12*(CD12*(1+Règles!$B$10)+CE12*(1+Règles!$B$11)+CF12*(1+Règles!$B$12))/60,2)) | AS12: =TRIM(IF(COUNTIF(BW12:CB12,"<"&(Règles!$B$4*60))>0,"Moins de 11 h de repos entre deux journées. ","")&IF(SUM(BI12:BO12)*20>IF(COUNT(AL12)=0,0,AL12),"Service de 6 h ou plus sans pause notée : 20 min à prévoir. ","")&IF(CC12>Règles!$B$6*60,"Plus de 48 h dans la semaine.","")) | AU12: =IF(COUNT(C12)=1,(HOUR(C12)*60+MINUTE(C12)),IF(COUNT(E12)=1,(HOUR(E12)*60+MINUTE(E12)),0)) | AV12: =IF(COUNT(H12)=1,(HOUR(H12)*60+MINUTE(H12)),IF(COUNT(J12)=1,(HOUR(J12)*60+MINUTE(J12)),0)) | AW12: =IF(COUNT(M12)=1,(HOUR(M12)*60+MINUTE(M12)),IF(COUNT(O12)=1,(HOUR(O12)*60+MINUTE(O12)),0)) | AX12: =IF(COUNT(R12)=1,(HOUR(R12)*60+MINUTE(R12)),IF(COUNT(T12)=1,(HOUR(T12)*60+MINUTE(T12)),0)) | AY12: =IF(COUNT(W12)=1,(HOUR(W12)*60+MINUTE(W12)),IF(COUNT(Y12)=1,(HOUR(Y12)*60+MINUTE(Y12)),0)) | AZ12: =IF(COUNT(AB12)=1,(HOUR(AB12)*60+MINUTE(AB12)),IF(COUNT(AD12)=1,(HOUR(AD12)*60+MINUTE(AD12)),0)) | BA12: =IF(COUNT(AG12)=1,(HOUR(AG12)*60+MINUTE(AG12)),IF(COUNT(AI12)=1,(HOUR(AI12)*60+MINUTE(AI12)),0)) | BB12: =IF(COUNT(E12,F12)=2,(HOUR(E12)*60+MINUTE(E12))+MOD((HOUR(F12)*60+MINUTE(F12))-(HOUR(E12)*60+MINUTE(E12)),1440),IF(COUNT(C12,D12)=2,(HOUR(C12)*60+MINUTE(C12))+MOD((HOUR(D12)*60+MINUTE(D12))-(HOUR(C12)*60+MINUTE(C12)),1440),0)) | BC12: =IF(COUNT(J12,K12)=2,(HOUR(J12)*60+MINUTE(J12))+MOD((HOUR(K12)*60+MINUTE(K12))-(HOUR(J12)*60+MINUTE(J12)),1440),IF(COUNT(H12,I12)=2,(HOUR(H12)*60+MINUTE(H12))+MOD((HOUR(I12)*60+MINUTE(I12))-(HOUR(H12)*60+MINUTE(H12)),1440),0)) | BD12: =IF(COUNT(O12,P12)=2,(HOUR(O12)*60+MINUTE(O12))+MOD((HOUR(P12)*60+MINUTE(P12))-(HOUR(O12)*60+MINUTE(O12)),1440),IF(COUNT(M12,N12)=2,(HOUR(M12)*60+MINUTE(M12))+MOD((HOUR(N12)*60+MINUTE(N12))-(HOUR(M12)*60+MINUTE(M12)),1440),0)) | BE12: =IF(COUNT(T12,U12)=2,(HOUR(T12)*60+MINUTE(T12))+MOD((HOUR(U12)*60+MINUTE(U12))-(HOUR(T12)*60+MINUTE(T12)),1440),IF(COUNT(R12,S12)=2,(HOUR(R12)*60+MINUTE(R12))+MOD((HOUR(S12)*60+MINUTE(S12))-(HOUR(R12)*60+MINUTE(R12)),1440),0)) | BF12: =IF(COUNT(Y12,Z12)=2,(HOUR(Y12)*60+MINUTE(Y12))+MOD((HOUR(Z12)*60+MINUTE(Z12))-(HOUR(Y12)*60+MINUTE(Y12)),1440),IF(COUNT(W12,X12)=2,(HOUR(W12)*60+MINUTE(W12))+MOD((HOUR(X12)*60+MINUTE(X12))-(HOUR(W12)*60+MINUTE(W12)),1440),0)) | BG12: =IF(COUNT(AD12,AE12)=2,(HOUR(AD12)*60+MINUTE(AD12))+MOD((HOUR(AE12)*60+MINUTE(AE12))-(HOUR(AD12)*60+MINUTE(AD12)),1440),IF(COUNT(AB12,AC12)=2,(HOUR(AB12)*60+MINUTE(AB12))+MOD((HOUR(AC12)*60+MINUTE(AC12))-(HOUR(AB12)*60+MINUTE(AB12)),1440),0)) | BH12: =IF(COUNT(AI12,AJ12)=2,(HOUR(AI12)*60+MINUTE(AI12))+MOD((HOUR(AJ12)*60+MINUTE(AJ12))-(HOUR(AI12)*60+MINUTE(AI12)),1440),IF(COUNT(AG12,AH12)=2,(HOUR(AG12)*60+MINUTE(AG12))+MOD((HOUR(AH12)*60+MINUTE(AH12))-(HOUR(AG12)*60+MINUTE(AG12)),1440),0)) | BI12: =IF(OR(IF(COUNT(C12,D12)<2,0,MOD((HOUR(D12)*60+MINUTE(D12))-(HOUR(C12)*60+MINUTE(C12)),1440))>=Règles!$B$5*60,IF(COUNT(E12,F12)<2,0,MOD((HOUR(F12)*60+MINUTE(F12))-(HOUR(E12)*60+MINUTE(E12)),1440))>=Règles!$B$5*60),1,0) | BJ12: =IF(OR(IF(COUNT(H12,I12)<2,0,MOD((HOUR(I12)*60+MINUTE(I12))-(HOUR(H12)*60+MINUTE(H12)),1440))>=Règles!$B$5*60,IF(COUNT(J12,K12)<2,0,MOD((HOUR(K12)*60+MINUTE(K12))-(HOUR(J12)*60+MINUTE(J12)),1440))>=Règles!$B$5*60),1,0) | BK12: =IF(OR(IF(COUNT(M12,N12)<2,0,MOD((HOUR(N12)*60+MINUTE(N12))-(HOUR(M12)*60+MINUTE(M12)),1440))>=Règles!$B$5*60,IF(COUNT(O12,P12)<2,0,MOD((HOUR(P12)*60+MINUTE(P12))-(HOUR(O12)*60+MINUTE(O12)),1440))>=Règles!$B$5*60),1,0) | BL12: =IF(OR(IF(COUNT(R12,S12)<2,0,MOD((HOUR(S12)*60+MINUTE(S12))-(HOUR(R12)*60+MINUTE(R12)),1440))>=Règles!$B$5*60,IF(COUNT(T12,U12)<2,0,MOD((HOUR(U12)*60+MINUTE(U12))-(HOUR(T12)*60+MINUTE(T12)),1440))>=Règles!$B$5*60),1,0) | BM12: =IF(OR(IF(COUNT(W12,X12)<2,0,MOD((HOUR(X12)*60+MINUTE(X12))-(HOUR(W12)*60+MINUTE(W12)),1440))>=Règles!$B$5*60,IF(COUNT(Y12,Z12)<2,0,MOD((HOUR(Z12)*60+MINUTE(Z12))-(HOUR(Y12)*60+MINUTE(Y12)),1440))>=Règles!$B$5*60),1,0) | BN12: =IF(OR(IF(COUNT(AB12,AC12)<2,0,MOD((HOUR(AC12)*60+MINUTE(AC12))-(HOUR(AB12)*60+MINUTE(AB12)),1440))>=Règles!$B$5*60,IF(COUNT(AD12,AE12)<2,0,MOD((HOUR(AE12)*60+MINUTE(AE12))-(HOUR(AD12)*60+MINUTE(AD12)),1440))>=Règles!$B$5*60),1,0) | BO12: =IF(OR(IF(COUNT(AG12,AH12)<2,0,MOD((HOUR(AH12)*60+MINUTE(AH12))-(HOUR(AG12)*60+MINUTE(AG12)),1440))>=Règles!$B$5*60,IF(COUNT(AI12,AJ12)<2,0,MOD((HOUR(AJ12)*60+MINUTE(AJ12))-(HOUR(AI12)*60+MINUTE(AI12)),1440))>=Règles!$B$5*60),1,0) | BP12: =IF(COUNT(C12,D12)<2,0,MOD((HOUR(D12)*60+MINUTE(D12))-(HOUR(C12)*60+MINUTE(C12)),1440))+IF(COUNT(E12,F12)<2,0,MOD((HOUR(F12)*60+MINUTE(F12))-(HOUR(E12)*60+MINUTE(E12)),1440)) | BQ12: =IF(COUNT(H12,I12)<2,0,MOD((HOUR(I12)*60+MINUTE(I12))-(HOUR(H12)*60+MINUTE(H12)),1440))+IF(COUNT(J12,K12)<2,0,MOD((HOUR(K12)*60+MINUTE(K12))-(HOUR(J12)*60+MINUTE(J12)),1440)) | BR12: =IF(COUNT(M12,N12)<2,0,MOD((HOUR(N12)*60+MINUTE(N12))-(HOUR(M12)*60+MINUTE(M12)),1440))+IF(COUNT(O12,P12)<2,0,MOD((HOUR(P12)*60+MINUTE(P12))-(HOUR(O12)*60+MINUTE(O12)),1440)) | BS12: =IF(COUNT(R12,S12)<2,0,MOD((HOUR(S12)*60+MINUTE(S12))-(HOUR(R12)*60+MINUTE(R12)),1440))+IF(COUNT(T12,U12)<2,0,MOD((HOUR(U12)*60+MINUTE(U12))-(HOUR(T12)*60+MINUTE(T12)),1440)) | BT12: =IF(COUNT(W12,X12)<2,0,MOD((HOUR(X12)*60+MINUTE(X12))-(HOUR(W12)*60+MINUTE(W12)),1440))+IF(COUNT(Y12,Z12)<2,0,MOD((HOUR(Z12)*60+MINUTE(Z12))-(HOUR(Y12)*60+MINUTE(Y12)),1440)) | BU12: =IF(COUNT(AB12,AC12)<2,0,MOD((HOUR(AC12)*60+MINUTE(AC12))-(HOUR(AB12)*60+MINUTE(AB12)),1440))+IF(COUNT(AD12,AE12)<2,0,MOD((HOUR(AE12)*60+MINUTE(AE12))-(HOUR(AD12)*60+MINUTE(AD12)),1440)) | BV12: =IF(COUNT(AG12,AH12)<2,0,MOD((HOUR(AH12)*60+MINUTE(AH12))-(HOUR(AG12)*60+MINUTE(AG12)),1440))+IF(COUNT(AI12,AJ12)<2,0,MOD((HOUR(AJ12)*60+MINUTE(AJ12))-(HOUR(AI12)*60+MINUTE(AI12)),1440)) | BW12: =IF(AND(BP12>0,BQ12>0),1440+AV12-BB12,99999) | BX12: =IF(AND(BQ12>0,BR12>0),1440+AW12-BC12,99999) | BY12: =IF(AND(BR12>0,BS12>0),1440+AX12-BD12,99999) | BZ12: =IF(AND(BS12>0,BT12>0),1440+AY12-BE12,99999) | CA12: =IF(AND(BT12>0,BU12>0),1440+AZ12-BF12,99999) | CB12: =IF(AND(BU12>0,BV12>0),1440+BA12-BG12,99999) | CC12: =SUM(BP12:BV12)-IF(COUNT(AL12)=0,0,AL12) | CD12: =MIN(MAX(CC12-Règles!$B$7*60,0),(Règles!$B$8-Règles!$B$7)*60) | CE12: =MIN(MAX(CC12-Règles!$B$8*60,0),(Règles!$B$9-Règles!$B$8)*60) | CF12: =MAX(CC12-Règles!$B$9*60,0)
G13: =BP13/1440 | L13: =BQ13/1440 | Q13: =BR13/1440 | V13: =BS13/1440 | AA13: =BT13/1440 | AF13: =BU13/1440 | AK13: =BV13/1440 | AM13: =CC13/1440 | AN13: =CD13/1440 | AO13: =CE13/1440 | AP13: =CF13/1440 | AR13: =IF(COUNT(AQ13)=0,"",ROUND(AQ13*(CD13*(1+Règles!$B$10)+CE13*(1+Règles!$B$11)+CF13*(1+Règles!$B$12))/60,2)) | AS13: =TRIM(IF(COUNTIF(BW13:CB13,"<"&(Règles!$B$4*60))>0,"Moins de 11 h de repos entre deux journées. ","")&IF(SUM(BI13:BO13)*20>IF(COUNT(AL13)=0,0,AL13),"Service de 6 h ou plus sans pause notée : 20 min à prévoir. ","")&IF(CC13>Règles!$B$6*60,"Plus de 48 h dans la semaine.","")) | AU13: =IF(COUNT(C13)=1,(HOUR(C13)*60+MINUTE(C13)),IF(COUNT(E13)=1,(HOUR(E13)*60+MINUTE(E13)),0)) | AV13: =IF(COUNT(H13)=1,(HOUR(H13)*60+MINUTE(H13)),IF(COUNT(J13)=1,(HOUR(J13)*60+MINUTE(J13)),0)) | AW13: =IF(COUNT(M13)=1,(HOUR(M13)*60+MINUTE(M13)),IF(COUNT(O13)=1,(HOUR(O13)*60+MINUTE(O13)),0)) | AX13: =IF(COUNT(R13)=1,(HOUR(R13)*60+MINUTE(R13)),IF(COUNT(T13)=1,(HOUR(T13)*60+MINUTE(T13)),0)) | AY13: =IF(COUNT(W13)=1,(HOUR(W13)*60+MINUTE(W13)),IF(COUNT(Y13)=1,(HOUR(Y13)*60+MINUTE(Y13)),0)) | AZ13: =IF(COUNT(AB13)=1,(HOUR(AB13)*60+MINUTE(AB13)),IF(COUNT(AD13)=1,(HOUR(AD13)*60+MINUTE(AD13)),0)) | BA13: =IF(COUNT(AG13)=1,(HOUR(AG13)*60+MINUTE(AG13)),IF(COUNT(AI13)=1,(HOUR(AI13)*60+MINUTE(AI13)),0)) | BB13: =IF(COUNT(E13,F13)=2,(HOUR(E13)*60+MINUTE(E13))+MOD((HOUR(F13)*60+MINUTE(F13))-(HOUR(E13)*60+MINUTE(E13)),1440),IF(COUNT(C13,D13)=2,(HOUR(C13)*60+MINUTE(C13))+MOD((HOUR(D13)*60+MINUTE(D13))-(HOUR(C13)*60+MINUTE(C13)),1440),0)) | BC13: =IF(COUNT(J13,K13)=2,(HOUR(J13)*60+MINUTE(J13))+MOD((HOUR(K13)*60+MINUTE(K13))-(HOUR(J13)*60+MINUTE(J13)),1440),IF(COUNT(H13,I13)=2,(HOUR(H13)*60+MINUTE(H13))+MOD((HOUR(I13)*60+MINUTE(I13))-(HOUR(H13)*60+MINUTE(H13)),1440),0)) | BD13: =IF(COUNT(O13,P13)=2,(HOUR(O13)*60+MINUTE(O13))+MOD((HOUR(P13)*60+MINUTE(P13))-(HOUR(O13)*60+MINUTE(O13)),1440),IF(COUNT(M13,N13)=2,(HOUR(M13)*60+MINUTE(M13))+MOD((HOUR(N13)*60+MINUTE(N13))-(HOUR(M13)*60+MINUTE(M13)),1440),0)) | BE13: =IF(COUNT(T13,U13)=2,(HOUR(T13)*60+MINUTE(T13))+MOD((HOUR(U13)*60+MINUTE(U13))-(HOUR(T13)*60+MINUTE(T13)),1440),IF(COUNT(R13,S13)=2,(HOUR(R13)*60+MINUTE(R13))+MOD((HOUR(S13)*60+MINUTE(S13))-(HOUR(R13)*60+MINUTE(R13)),1440),0)) | BF13: =IF(COUNT(Y13,Z13)=2,(HOUR(Y13)*60+MINUTE(Y13))+MOD((HOUR(Z13)*60+MINUTE(Z13))-(HOUR(Y13)*60+MINUTE(Y13)),1440),IF(COUNT(W13,X13)=2,(HOUR(W13)*60+MINUTE(W13))+MOD((HOUR(X13)*60+MINUTE(X13))-(HOUR(W13)*60+MINUTE(W13)),1440),0)) | BG13: =IF(COUNT(AD13,AE13)=2,(HOUR(AD13)*60+MINUTE(AD13))+MOD((HOUR(AE13)*60+MINUTE(AE13))-(HOUR(AD13)*60+MINUTE(AD13)),1440),IF(COUNT(AB13,AC13)=2,(HOUR(AB13)*60+MINUTE(AB13))+MOD((HOUR(AC13)*60+MINUTE(AC13))-(HOUR(AB13)*60+MINUTE(AB13)),1440),0)) | BH13: =IF(COUNT(AI13,AJ13)=2,(HOUR(AI13)*60+MINUTE(AI13))+MOD((HOUR(AJ13)*60+MINUTE(AJ13))-(HOUR(AI13)*60+MINUTE(AI13)),1440),IF(COUNT(AG13,AH13)=2,(HOUR(AG13)*60+MINUTE(AG13))+MOD((HOUR(AH13)*60+MINUTE(AH13))-(HOUR(AG13)*60+MINUTE(AG13)),1440),0)) | BI13: =IF(OR(IF(COUNT(C13,D13)<2,0,MOD((HOUR(D13)*60+MINUTE(D13))-(HOUR(C13)*60+MINUTE(C13)),1440))>=Règles!$B$5*60,IF(COUNT(E13,F13)<2,0,MOD((HOUR(F13)*60+MINUTE(F13))-(HOUR(E13)*60+MINUTE(E13)),1440))>=Règles!$B$5*60),1,0) | BJ13: =IF(OR(IF(COUNT(H13,I13)<2,0,MOD((HOUR(I13)*60+MINUTE(I13))-(HOUR(H13)*60+MINUTE(H13)),1440))>=Règles!$B$5*60,IF(COUNT(J13,K13)<2,0,MOD((HOUR(K13)*60+MINUTE(K13))-(HOUR(J13)*60+MINUTE(J13)),1440))>=Règles!$B$5*60),1,0) | BK13: =IF(OR(IF(COUNT(M13,N13)<2,0,MOD((HOUR(N13)*60+MINUTE(N13))-(HOUR(M13)*60+MINUTE(M13)),1440))>=Règles!$B$5*60,IF(COUNT(O13,P13)<2,0,MOD((HOUR(P13)*60+MINUTE(P13))-(HOUR(O13)*60+MINUTE(O13)),1440))>=Règles!$B$5*60),1,0) | BL13: =IF(OR(IF(COUNT(R13,S13)<2,0,MOD((HOUR(S13)*60+MINUTE(S13))-(HOUR(R13)*60+MINUTE(R13)),1440))>=Règles!$B$5*60,IF(COUNT(T13,U13)<2,0,MOD((HOUR(U13)*60+MINUTE(U13))-(HOUR(T13)*60+MINUTE(T13)),1440))>=Règles!$B$5*60),1,0) | BM13: =IF(OR(IF(COUNT(W13,X13)<2,0,MOD((HOUR(X13)*60+MINUTE(X13))-(HOUR(W13)*60+MINUTE(W13)),1440))>=Règles!$B$5*60,IF(COUNT(Y13,Z13)<2,0,MOD((HOUR(Z13)*60+MINUTE(Z13))-(HOUR(Y13)*60+MINUTE(Y13)),1440))>=Règles!$B$5*60),1,0) | BN13: =IF(OR(IF(COUNT(AB13,AC13)<2,0,MOD((HOUR(AC13)*60+MINUTE(AC13))-(HOUR(AB13)*60+MINUTE(AB13)),1440))>=Règles!$B$5*60,IF(COUNT(AD13,AE13)<2,0,MOD((HOUR(AE13)*60+MINUTE(AE13))-(HOUR(AD13)*60+MINUTE(AD13)),1440))>=Règles!$B$5*60),1,0) | BO13: =IF(OR(IF(COUNT(AG13,AH13)<2,0,MOD((HOUR(AH13)*60+MINUTE(AH13))-(HOUR(AG13)*60+MINUTE(AG13)),1440))>=Règles!$B$5*60,IF(COUNT(AI13,AJ13)<2,0,MOD((HOUR(AJ13)*60+MINUTE(AJ13))-(HOUR(AI13)*60+MINUTE(AI13)),1440))>=Règles!$B$5*60),1,0) | BP13: =IF(COUNT(C13,D13)<2,0,MOD((HOUR(D13)*60+MINUTE(D13))-(HOUR(C13)*60+MINUTE(C13)),1440))+IF(COUNT(E13,F13)<2,0,MOD((HOUR(F13)*60+MINUTE(F13))-(HOUR(E13)*60+MINUTE(E13)),1440)) | BQ13: =IF(COUNT(H13,I13)<2,0,MOD((HOUR(I13)*60+MINUTE(I13))-(HOUR(H13)*60+MINUTE(H13)),1440))+IF(COUNT(J13,K13)<2,0,MOD((HOUR(K13)*60+MINUTE(K13))-(HOUR(J13)*60+MINUTE(J13)),1440)) | BR13: =IF(COUNT(M13,N13)<2,0,MOD((HOUR(N13)*60+MINUTE(N13))-(HOUR(M13)*60+MINUTE(M13)),1440))+IF(COUNT(O13,P13)<2,0,MOD((HOUR(P13)*60+MINUTE(P13))-(HOUR(O13)*60+MINUTE(O13)),1440)) | BS13: =IF(COUNT(R13,S13)<2,0,MOD((HOUR(S13)*60+MINUTE(S13))-(HOUR(R13)*60+MINUTE(R13)),1440))+IF(COUNT(T13,U13)<2,0,MOD((HOUR(U13)*60+MINUTE(U13))-(HOUR(T13)*60+MINUTE(T13)),1440)) | BT13: =IF(COUNT(W13,X13)<2,0,MOD((HOUR(X13)*60+MINUTE(X13))-(HOUR(W13)*60+MINUTE(W13)),1440))+IF(COUNT(Y13,Z13)<2,0,MOD((HOUR(Z13)*60+MINUTE(Z13))-(HOUR(Y13)*60+MINUTE(Y13)),1440)) | BU13: =IF(COUNT(AB13,AC13)<2,0,MOD((HOUR(AC13)*60+MINUTE(AC13))-(HOUR(AB13)*60+MINUTE(AB13)),1440))+IF(COUNT(AD13,AE13)<2,0,MOD((HOUR(AE13)*60+MINUTE(AE13))-(HOUR(AD13)*60+MINUTE(AD13)),1440)) | BV13: =IF(COUNT(AG13,AH13)<2,0,MOD((HOUR(AH13)*60+MINUTE(AH13))-(HOUR(AG13)*60+MINUTE(AG13)),1440))+IF(COUNT(AI13,AJ13)<2,0,MOD((HOUR(AJ13)*60+MINUTE(AJ13))-(HOUR(AI13)*60+MINUTE(AI13)),1440)) | BW13: =IF(AND(BP13>0,BQ13>0),1440+AV13-BB13,99999) | BX13: =IF(AND(BQ13>0,BR13>0),1440+AW13-BC13,99999) | BY13: =IF(AND(BR13>0,BS13>0),1440+AX13-BD13,99999) | BZ13: =IF(AND(BS13>0,BT13>0),1440+AY13-BE13,99999) | CA13: =IF(AND(BT13>0,BU13>0),1440+AZ13-BF13,99999) | CB13: =IF(AND(BU13>0,BV13>0),1440+BA13-BG13,99999) | CC13: =SUM(BP13:BV13)-IF(COUNT(AL13)=0,0,AL13) | CD13: =MIN(MAX(CC13-Règles!$B$7*60,0),(Règles!$B$8-Règles!$B$7)*60) | CE13: =MIN(MAX(CC13-Règles!$B$8*60,0),(Règles!$B$9-Règles!$B$8)*60) | CF13: =MAX(CC13-Règles!$B$9*60,0)
G14: =BP14/1440 | L14: =BQ14/1440 | Q14: =BR14/1440 | V14: =BS14/1440 | AA14: =BT14/1440 | AF14: =BU14/1440 | AK14: =BV14/1440 | AM14: =CC14/1440 | AN14: =CD14/1440 | AO14: =CE14/1440 | AP14: =CF14/1440 | AR14: =IF(COUNT(AQ14)=0,"",ROUND(AQ14*(CD14*(1+Règles!$B$10)+CE14*(1+Règles!$B$11)+CF14*(1+Règles!$B$12))/60,2)) | AS14: =TRIM(IF(COUNTIF(BW14:CB14,"<"&(Règles!$B$4*60))>0,"Moins de 11 h de repos entre deux journées. ","")&IF(SUM(BI14:BO14)*20>IF(COUNT(AL14)=0,0,AL14),"Service de 6 h ou plus sans pause notée : 20 min à prévoir. ","")&IF(CC14>Règles!$B$6*60,"Plus de 48 h dans la semaine.","")) | AU14: =IF(COUNT(C14)=1,(HOUR(C14)*60+MINUTE(C14)),IF(COUNT(E14)=1,(HOUR(E14)*60+MINUTE(E14)),0)) | AV14: =IF(COUNT(H14)=1,(HOUR(H14)*60+MINUTE(H14)),IF(COUNT(J14)=1,(HOUR(J14)*60+MINUTE(J14)),0)) | AW14: =IF(COUNT(M14)=1,(HOUR(M14)*60+MINUTE(M14)),IF(COUNT(O14)=1,(HOUR(O14)*60+MINUTE(O14)),0)) | AX14: =IF(COUNT(R14)=1,(HOUR(R14)*60+MINUTE(R14)),IF(COUNT(T14)=1,(HOUR(T14)*60+MINUTE(T14)),0)) | AY14: =IF(COUNT(W14)=1,(HOUR(W14)*60+MINUTE(W14)),IF(COUNT(Y14)=1,(HOUR(Y14)*60+MINUTE(Y14)),0)) | AZ14: =IF(COUNT(AB14)=1,(HOUR(AB14)*60+MINUTE(AB14)),IF(COUNT(AD14)=1,(HOUR(AD14)*60+MINUTE(AD14)),0)) | BA14: =IF(COUNT(AG14)=1,(HOUR(AG14)*60+MINUTE(AG14)),IF(COUNT(AI14)=1,(HOUR(AI14)*60+MINUTE(AI14)),0)) | BB14: =IF(COUNT(E14,F14)=2,(HOUR(E14)*60+MINUTE(E14))+MOD((HOUR(F14)*60+MINUTE(F14))-(HOUR(E14)*60+MINUTE(E14)),1440),IF(COUNT(C14,D14)=2,(HOUR(C14)*60+MINUTE(C14))+MOD((HOUR(D14)*60+MINUTE(D14))-(HOUR(C14)*60+MINUTE(C14)),1440),0)) | BC14: =IF(COUNT(J14,K14)=2,(HOUR(J14)*60+MINUTE(J14))+MOD((HOUR(K14)*60+MINUTE(K14))-(HOUR(J14)*60+MINUTE(J14)),1440),IF(COUNT(H14,I14)=2,(HOUR(H14)*60+MINUTE(H14))+MOD((HOUR(I14)*60+MINUTE(I14))-(HOUR(H14)*60+MINUTE(H14)),1440),0)) | BD14: =IF(COUNT(O14,P14)=2,(HOUR(O14)*60+MINUTE(O14))+MOD((HOUR(P14)*60+MINUTE(P14))-(HOUR(O14)*60+MINUTE(O14)),1440),IF(COUNT(M14,N14)=2,(HOUR(M14)*60+MINUTE(M14))+MOD((HOUR(N14)*60+MINUTE(N14))-(HOUR(M14)*60+MINUTE(M14)),1440),0)) | BE14: =IF(COUNT(T14,U14)=2,(HOUR(T14)*60+MINUTE(T14))+MOD((HOUR(U14)*60+MINUTE(U14))-(HOUR(T14)*60+MINUTE(T14)),1440),IF(COUNT(R14,S14)=2,(HOUR(R14)*60+MINUTE(R14))+MOD((HOUR(S14)*60+MINUTE(S14))-(HOUR(R14)*60+MINUTE(R14)),1440),0)) | BF14: =IF(COUNT(Y14,Z14)=2,(HOUR(Y14)*60+MINUTE(Y14))+MOD((HOUR(Z14)*60+MINUTE(Z14))-(HOUR(Y14)*60+MINUTE(Y14)),1440),IF(COUNT(W14,X14)=2,(HOUR(W14)*60+MINUTE(W14))+MOD((HOUR(X14)*60+MINUTE(X14))-(HOUR(W14)*60+MINUTE(W14)),1440),0)) | BG14: =IF(COUNT(AD14,AE14)=2,(HOUR(AD14)*60+MINUTE(AD14))+MOD((HOUR(AE14)*60+MINUTE(AE14))-(HOUR(AD14)*60+MINUTE(AD14)),1440),IF(COUNT(AB14,AC14)=2,(HOUR(AB14)*60+MINUTE(AB14))+MOD((HOUR(AC14)*60+MINUTE(AC14))-(HOUR(AB14)*60+MINUTE(AB14)),1440),0)) | BH14: =IF(COUNT(AI14,AJ14)=2,(HOUR(AI14)*60+MINUTE(AI14))+MOD((HOUR(AJ14)*60+MINUTE(AJ14))-(HOUR(AI14)*60+MINUTE(AI14)),1440),IF(COUNT(AG14,AH14)=2,(HOUR(AG14)*60+MINUTE(AG14))+MOD((HOUR(AH14)*60+MINUTE(AH14))-(HOUR(AG14)*60+MINUTE(AG14)),1440),0)) | BI14: =IF(OR(IF(COUNT(C14,D14)<2,0,MOD((HOUR(D14)*60+MINUTE(D14))-(HOUR(C14)*60+MINUTE(C14)),1440))>=Règles!$B$5*60,IF(COUNT(E14,F14)<2,0,MOD((HOUR(F14)*60+MINUTE(F14))-(HOUR(E14)*60+MINUTE(E14)),1440))>=Règles!$B$5*60),1,0) | BJ14: =IF(OR(IF(COUNT(H14,I14)<2,0,MOD((HOUR(I14)*60+MINUTE(I14))-(HOUR(H14)*60+MINUTE(H14)),1440))>=Règles!$B$5*60,IF(COUNT(J14,K14)<2,0,MOD((HOUR(K14)*60+MINUTE(K14))-(HOUR(J14)*60+MINUTE(J14)),1440))>=Règles!$B$5*60),1,0) | BK14: =IF(OR(IF(COUNT(M14,N14)<2,0,MOD((HOUR(N14)*60+MINUTE(N14))-(HOUR(M14)*60+MINUTE(M14)),1440))>=Règles!$B$5*60,IF(COUNT(O14,P14)<2,0,MOD((HOUR(P14)*60+MINUTE(P14))-(HOUR(O14)*60+MINUTE(O14)),1440))>=Règles!$B$5*60),1,0) | BL14: =IF(OR(IF(COUNT(R14,S14)<2,0,MOD((HOUR(S14)*60+MINUTE(S14))-(HOUR(R14)*60+MINUTE(R14)),1440))>=Règles!$B$5*60,IF(COUNT(T14,U14)<2,0,MOD((HOUR(U14)*60+MINUTE(U14))-(HOUR(T14)*60+MINUTE(T14)),1440))>=Règles!$B$5*60),1,0) | BM14: =IF(OR(IF(COUNT(W14,X14)<2,0,MOD((HOUR(X14)*60+MINUTE(X14))-(HOUR(W14)*60+MINUTE(W14)),1440))>=Règles!$B$5*60,IF(COUNT(Y14,Z14)<2,0,MOD((HOUR(Z14)*60+MINUTE(Z14))-(HOUR(Y14)*60+MINUTE(Y14)),1440))>=Règles!$B$5*60),1,0) | BN14: =IF(OR(IF(COUNT(AB14,AC14)<2,0,MOD((HOUR(AC14)*60+MINUTE(AC14))-(HOUR(AB14)*60+MINUTE(AB14)),1440))>=Règles!$B$5*60,IF(COUNT(AD14,AE14)<2,0,MOD((HOUR(AE14)*60+MINUTE(AE14))-(HOUR(AD14)*60+MINUTE(AD14)),1440))>=Règles!$B$5*60),1,0) | BO14: =IF(OR(IF(COUNT(AG14,AH14)<2,0,MOD((HOUR(AH14)*60+MINUTE(AH14))-(HOUR(AG14)*60+MINUTE(AG14)),1440))>=Règles!$B$5*60,IF(COUNT(AI14,AJ14)<2,0,MOD((HOUR(AJ14)*60+MINUTE(AJ14))-(HOUR(AI14)*60+MINUTE(AI14)),1440))>=Règles!$B$5*60),1,0) | BP14: =IF(COUNT(C14,D14)<2,0,MOD((HOUR(D14)*60+MINUTE(D14))-(HOUR(C14)*60+MINUTE(C14)),1440))+IF(COUNT(E14,F14)<2,0,MOD((HOUR(F14)*60+MINUTE(F14))-(HOUR(E14)*60+MINUTE(E14)),1440)) | BQ14: =IF(COUNT(H14,I14)<2,0,MOD((HOUR(I14)*60+MINUTE(I14))-(HOUR(H14)*60+MINUTE(H14)),1440))+IF(COUNT(J14,K14)<2,0,MOD((HOUR(K14)*60+MINUTE(K14))-(HOUR(J14)*60+MINUTE(J14)),1440)) | BR14: =IF(COUNT(M14,N14)<2,0,MOD((HOUR(N14)*60+MINUTE(N14))-(HOUR(M14)*60+MINUTE(M14)),1440))+IF(COUNT(O14,P14)<2,0,MOD((HOUR(P14)*60+MINUTE(P14))-(HOUR(O14)*60+MINUTE(O14)),1440)) | BS14: =IF(COUNT(R14,S14)<2,0,MOD((HOUR(S14)*60+MINUTE(S14))-(HOUR(R14)*60+MINUTE(R14)),1440))+IF(COUNT(T14,U14)<2,0,MOD((HOUR(U14)*60+MINUTE(U14))-(HOUR(T14)*60+MINUTE(T14)),1440)) | BT14: =IF(COUNT(W14,X14)<2,0,MOD((HOUR(X14)*60+MINUTE(X14))-(HOUR(W14)*60+MINUTE(W14)),1440))+IF(COUNT(Y14,Z14)<2,0,MOD((HOUR(Z14)*60+MINUTE(Z14))-(HOUR(Y14)*60+MINUTE(Y14)),1440)) | BU14: =IF(COUNT(AB14,AC14)<2,0,MOD((HOUR(AC14)*60+MINUTE(AC14))-(HOUR(AB14)*60+MINUTE(AB14)),1440))+IF(COUNT(AD14,AE14)<2,0,MOD((HOUR(AE14)*60+MINUTE(AE14))-(HOUR(AD14)*60+MINUTE(AD14)),1440)) | BV14: =IF(COUNT(AG14,AH14)<2,0,MOD((HOUR(AH14)*60+MINUTE(AH14))-(HOUR(AG14)*60+MINUTE(AG14)),1440))+IF(COUNT(AI14,AJ14)<2,0,MOD((HOUR(AJ14)*60+MINUTE(AJ14))-(HOUR(AI14)*60+MINUTE(AI14)),1440)) | BW14: =IF(AND(BP14>0,BQ14>0),1440+AV14-BB14,99999) | BX14: =IF(AND(BQ14>0,BR14>0),1440+AW14-BC14,99999) | BY14: =IF(AND(BR14>0,BS14>0),1440+AX14-BD14,99999) | BZ14: =IF(AND(BS14>0,BT14>0),1440+AY14-BE14,99999) | CA14: =IF(AND(BT14>0,BU14>0),1440+AZ14-BF14,99999) | CB14: =IF(AND(BU14>0,BV14>0),1440+BA14-BG14,99999) | CC14: =SUM(BP14:BV14)-IF(COUNT(AL14)=0,0,AL14) | CD14: =MIN(MAX(CC14-Règles!$B$7*60,0),(Règles!$B$8-Règles!$B$7)*60) | CE14: =MIN(MAX(CC14-Règles!$B$8*60,0),(Règles!$B$9-Règles!$B$8)*60) | CF14: =MAX(CC14-Règles!$B$9*60,0)
G15: =BP15/1440 | L15: =BQ15/1440 | Q15: =BR15/1440 | V15: =BS15/1440 | AA15: =BT15/1440 | AF15: =BU15/1440 | AK15: =BV15/1440 | AM15: =CC15/1440 | AN15: =CD15/1440 | AO15: =CE15/1440 | AP15: =CF15/1440 | AR15: =IF(COUNT(AQ15)=0,"",ROUND(AQ15*(CD15*(1+Règles!$B$10)+CE15*(1+Règles!$B$11)+CF15*(1+Règles!$B$12))/60,2)) | AS15: =TRIM(IF(COUNTIF(BW15:CB15,"<"&(Règles!$B$4*60))>0,"Moins de 11 h de repos entre deux journées. ","")&IF(SUM(BI15:BO15)*20>IF(COUNT(AL15)=0,0,AL15),"Service de 6 h ou plus sans pause notée : 20 min à prévoir. ","")&IF(CC15>Règles!$B$6*60,"Plus de 48 h dans la semaine.","")) | AU15: =IF(COUNT(C15)=1,(HOUR(C15)*60+MINUTE(C15)),IF(COUNT(E15)=1,(HOUR(E15)*60+MINUTE(E15)),0)) | AV15: =IF(COUNT(H15)=1,(HOUR(H15)*60+MINUTE(H15)),IF(COUNT(J15)=1,(HOUR(J15)*60+MINUTE(J15)),0)) | AW15: =IF(COUNT(M15)=1,(HOUR(M15)*60+MINUTE(M15)),IF(COUNT(O15)=1,(HOUR(O15)*60+MINUTE(O15)),0)) | AX15: =IF(COUNT(R15)=1,(HOUR(R15)*60+MINUTE(R15)),IF(COUNT(T15)=1,(HOUR(T15)*60+MINUTE(T15)),0)) | AY15: =IF(COUNT(W15)=1,(HOUR(W15)*60+MINUTE(W15)),IF(COUNT(Y15)=1,(HOUR(Y15)*60+MINUTE(Y15)),0)) | AZ15: =IF(COUNT(AB15)=1,(HOUR(AB15)*60+MINUTE(AB15)),IF(COUNT(AD15)=1,(HOUR(AD15)*60+MINUTE(AD15)),0)) | BA15: =IF(COUNT(AG15)=1,(HOUR(AG15)*60+MINUTE(AG15)),IF(COUNT(AI15)=1,(HOUR(AI15)*60+MINUTE(AI15)),0)) | BB15: =IF(COUNT(E15,F15)=2,(HOUR(E15)*60+MINUTE(E15))+MOD((HOUR(F15)*60+MINUTE(F15))-(HOUR(E15)*60+MINUTE(E15)),1440),IF(COUNT(C15,D15)=2,(HOUR(C15)*60+MINUTE(C15))+MOD((HOUR(D15)*60+MINUTE(D15))-(HOUR(C15)*60+MINUTE(C15)),1440),0)) | BC15: =IF(COUNT(J15,K15)=2,(HOUR(J15)*60+MINUTE(J15))+MOD((HOUR(K15)*60+MINUTE(K15))-(HOUR(J15)*60+MINUTE(J15)),1440),IF(COUNT(H15,I15)=2,(HOUR(H15)*60+MINUTE(H15))+MOD((HOUR(I15)*60+MINUTE(I15))-(HOUR(H15)*60+MINUTE(H15)),1440),0)) | BD15: =IF(COUNT(O15,P15)=2,(HOUR(O15)*60+MINUTE(O15))+MOD((HOUR(P15)*60+MINUTE(P15))-(HOUR(O15)*60+MINUTE(O15)),1440),IF(COUNT(M15,N15)=2,(HOUR(M15)*60+MINUTE(M15))+MOD((HOUR(N15)*60+MINUTE(N15))-(HOUR(M15)*60+MINUTE(M15)),1440),0)) | BE15: =IF(COUNT(T15,U15)=2,(HOUR(T15)*60+MINUTE(T15))+MOD((HOUR(U15)*60+MINUTE(U15))-(HOUR(T15)*60+MINUTE(T15)),1440),IF(COUNT(R15,S15)=2,(HOUR(R15)*60+MINUTE(R15))+MOD((HOUR(S15)*60+MINUTE(S15))-(HOUR(R15)*60+MINUTE(R15)),1440),0)) | BF15: =IF(COUNT(Y15,Z15)=2,(HOUR(Y15)*60+MINUTE(Y15))+MOD((HOUR(Z15)*60+MINUTE(Z15))-(HOUR(Y15)*60+MINUTE(Y15)),1440),IF(COUNT(W15,X15)=2,(HOUR(W15)*60+MINUTE(W15))+MOD((HOUR(X15)*60+MINUTE(X15))-(HOUR(W15)*60+MINUTE(W15)),1440),0)) | BG15: =IF(COUNT(AD15,AE15)=2,(HOUR(AD15)*60+MINUTE(AD15))+MOD((HOUR(AE15)*60+MINUTE(AE15))-(HOUR(AD15)*60+MINUTE(AD15)),1440),IF(COUNT(AB15,AC15)=2,(HOUR(AB15)*60+MINUTE(AB15))+MOD((HOUR(AC15)*60+MINUTE(AC15))-(HOUR(AB15)*60+MINUTE(AB15)),1440),0)) | BH15: =IF(COUNT(AI15,AJ15)=2,(HOUR(AI15)*60+MINUTE(AI15))+MOD((HOUR(AJ15)*60+MINUTE(AJ15))-(HOUR(AI15)*60+MINUTE(AI15)),1440),IF(COUNT(AG15,AH15)=2,(HOUR(AG15)*60+MINUTE(AG15))+MOD((HOUR(AH15)*60+MINUTE(AH15))-(HOUR(AG15)*60+MINUTE(AG15)),1440),0)) | BI15: =IF(OR(IF(COUNT(C15,D15)<2,0,MOD((HOUR(D15)*60+MINUTE(D15))-(HOUR(C15)*60+MINUTE(C15)),1440))>=Règles!$B$5*60,IF(COUNT(E15,F15)<2,0,MOD((HOUR(F15)*60+MINUTE(F15))-(HOUR(E15)*60+MINUTE(E15)),1440))>=Règles!$B$5*60),1,0) | BJ15: =IF(OR(IF(COUNT(H15,I15)<2,0,MOD((HOUR(I15)*60+MINUTE(I15))-(HOUR(H15)*60+MINUTE(H15)),1440))>=Règles!$B$5*60,IF(COUNT(J15,K15)<2,0,MOD((HOUR(K15)*60+MINUTE(K15))-(HOUR(J15)*60+MINUTE(J15)),1440))>=Règles!$B$5*60),1,0) | BK15: =IF(OR(IF(COUNT(M15,N15)<2,0,MOD((HOUR(N15)*60+MINUTE(N15))-(HOUR(M15)*60+MINUTE(M15)),1440))>=Règles!$B$5*60,IF(COUNT(O15,P15)<2,0,MOD((HOUR(P15)*60+MINUTE(P15))-(HOUR(O15)*60+MINUTE(O15)),1440))>=Règles!$B$5*60),1,0) | BL15: =IF(OR(IF(COUNT(R15,S15)<2,0,MOD((HOUR(S15)*60+MINUTE(S15))-(HOUR(R15)*60+MINUTE(R15)),1440))>=Règles!$B$5*60,IF(COUNT(T15,U15)<2,0,MOD((HOUR(U15)*60+MINUTE(U15))-(HOUR(T15)*60+MINUTE(T15)),1440))>=Règles!$B$5*60),1,0) | BM15: =IF(OR(IF(COUNT(W15,X15)<2,0,MOD((HOUR(X15)*60+MINUTE(X15))-(HOUR(W15)*60+MINUTE(W15)),1440))>=Règles!$B$5*60,IF(COUNT(Y15,Z15)<2,0,MOD((HOUR(Z15)*60+MINUTE(Z15))-(HOUR(Y15)*60+MINUTE(Y15)),1440))>=Règles!$B$5*60),1,0) | BN15: =IF(OR(IF(COUNT(AB15,AC15)<2,0,MOD((HOUR(AC15)*60+MINUTE(AC15))-(HOUR(AB15)*60+MINUTE(AB15)),1440))>=Règles!$B$5*60,IF(COUNT(AD15,AE15)<2,0,MOD((HOUR(AE15)*60+MINUTE(AE15))-(HOUR(AD15)*60+MINUTE(AD15)),1440))>=Règles!$B$5*60),1,0) | BO15: =IF(OR(IF(COUNT(AG15,AH15)<2,0,MOD((HOUR(AH15)*60+MINUTE(AH15))-(HOUR(AG15)*60+MINUTE(AG15)),1440))>=Règles!$B$5*60,IF(COUNT(AI15,AJ15)<2,0,MOD((HOUR(AJ15)*60+MINUTE(AJ15))-(HOUR(AI15)*60+MINUTE(AI15)),1440))>=Règles!$B$5*60),1,0) | BP15: =IF(COUNT(C15,D15)<2,0,MOD((HOUR(D15)*60+MINUTE(D15))-(HOUR(C15)*60+MINUTE(C15)),1440))+IF(COUNT(E15,F15)<2,0,MOD((HOUR(F15)*60+MINUTE(F15))-(HOUR(E15)*60+MINUTE(E15)),1440)) | BQ15: =IF(COUNT(H15,I15)<2,0,MOD((HOUR(I15)*60+MINUTE(I15))-(HOUR(H15)*60+MINUTE(H15)),1440))+IF(COUNT(J15,K15)<2,0,MOD((HOUR(K15)*60+MINUTE(K15))-(HOUR(J15)*60+MINUTE(J15)),1440)) | BR15: =IF(COUNT(M15,N15)<2,0,MOD((HOUR(N15)*60+MINUTE(N15))-(HOUR(M15)*60+MINUTE(M15)),1440))+IF(COUNT(O15,P15)<2,0,MOD((HOUR(P15)*60+MINUTE(P15))-(HOUR(O15)*60+MINUTE(O15)),1440)) | BS15: =IF(COUNT(R15,S15)<2,0,MOD((HOUR(S15)*60+MINUTE(S15))-(HOUR(R15)*60+MINUTE(R15)),1440))+IF(COUNT(T15,U15)<2,0,MOD((HOUR(U15)*60+MINUTE(U15))-(HOUR(T15)*60+MINUTE(T15)),1440)) | BT15: =IF(COUNT(W15,X15)<2,0,MOD((HOUR(X15)*60+MINUTE(X15))-(HOUR(W15)*60+MINUTE(W15)),1440))+IF(COUNT(Y15,Z15)<2,0,MOD((HOUR(Z15)*60+MINUTE(Z15))-(HOUR(Y15)*60+MINUTE(Y15)),1440)) | BU15: =IF(COUNT(AB15,AC15)<2,0,MOD((HOUR(AC15)*60+MINUTE(AC15))-(HOUR(AB15)*60+MINUTE(AB15)),1440))+IF(COUNT(AD15,AE15)<2,0,MOD((HOUR(AE15)*60+MINUTE(AE15))-(HOUR(AD15)*60+MINUTE(AD15)),1440)) | BV15: =IF(COUNT(AG15,AH15)<2,0,MOD((HOUR(AH15)*60+MINUTE(AH15))-(HOUR(AG15)*60+MINUTE(AG15)),1440))+IF(COUNT(AI15,AJ15)<2,0,MOD((HOUR(AJ15)*60+MINUTE(AJ15))-(HOUR(AI15)*60+MINUTE(AI15)),1440)) | BW15: =IF(AND(BP15>0,BQ15>0),1440+AV15-BB15,99999) | BX15: =IF(AND(BQ15>0,BR15>0),1440+AW15-BC15,99999) | BY15: =IF(AND(BR15>0,BS15>0),1440+AX15-BD15,99999) | BZ15: =IF(AND(BS15>0,BT15>0),1440+AY15-BE15,99999) | CA15: =IF(AND(BT15>0,BU15>0),1440+AZ15-BF15,99999) | CB15: =IF(AND(BU15>0,BV15>0),1440+BA15-BG15,99999) | CC15: =SUM(BP15:BV15)-IF(COUNT(AL15)=0,0,AL15) | CD15: =MIN(MAX(CC15-Règles!$B$7*60,0),(Règles!$B$8-Règles!$B$7)*60) | CE15: =MIN(MAX(CC15-Règles!$B$8*60,0),(Règles!$B$9-Règles!$B$8)*60) | CF15: =MAX(CC15-Règles!$B$9*60,0)
